BEGIN:VCALENDAR
VERSION:2.0
PRODID:-//Christian Fellowship Of Reno - ECPv6.15.20//NONSGML v1.0//EN
CALSCALE:GREGORIAN
METHOD:PUBLISH
X-ORIGINAL-URL:https://renoforjesus.com
X-WR-CALDESC:Events for Christian Fellowship Of Reno
REFRESH-INTERVAL;VALUE=DURATION:PT1H
X-Robots-Tag:noindex
X-PUBLISHED-TTL:PT1H
BEGIN:VTIMEZONE
TZID:UTC
BEGIN:STANDARD
TZOFFSETFROM:+0000
TZOFFSETTO:+0000
TZNAME:UTC
DTSTART:20280101T000000
END:STANDARD
END:VTIMEZONE
BEGIN:VEVENT
DTSTART;TZID=UTC:20290124T190000
DTEND;TZID=UTC:20290124T200000
DTSTAMP:20260422T000659
CREATED:20230115T005001Z
LAST-MODIFIED:20240819T194612Z
UID:10001966-1863975600-1863979200@renoforjesus.com
SUMMARY:Wednesday Service and Children's Church
DESCRIPTION:
URL:https://renoforjesus.com/event/wednesday-service-and-childrens-church/2029-01-24/
ATTACH;FMTTYPE=image/jpeg:https://renoforjesus.com/wp-content/uploads/2023/01/hannah-busing-G-_L3Eqkqmc-unsplash.jpg
END:VEVENT
BEGIN:VEVENT
DTSTART;TZID=UTC:20290126T183000
DTEND;TZID=UTC:20290126T203000
DTSTAMP:20260422T000659
CREATED:20230115T005214Z
LAST-MODIFIED:20240819T194928Z
UID:10002227-1864146600-1864153800@renoforjesus.com
SUMMARY:Youth Cross Fire Ministry
DESCRIPTION:For Teen and Young Adults 13 to 18 years of age.
URL:https://renoforjesus.com/event/youth-cross-fire-ministry/2029-01-26/
ATTACH;FMTTYPE=image/jpeg:https://renoforjesus.com/wp-content/uploads/2023/04/Copy-of-Youth-Conference-Made-with-PosterMyWall-e1724096115653.jpg
END:VEVENT
BEGIN:VEVENT
DTSTART;TZID=UTC:20290128T100000
DTEND;TZID=UTC:20290128T110000
DTSTAMP:20260422T000659
CREATED:20240819T194805Z
LAST-MODIFIED:20250316T204754Z
UID:10004942-1864288800-1864292400@renoforjesus.com
SUMMARY:Sunday School & Adult Bible Study
DESCRIPTION:
URL:https://renoforjesus.com/event/sunday-school-adult-bible-study/2029-01-28/
ATTACH;FMTTYPE=image/jpeg:https://renoforjesus.com/wp-content/uploads/2023/01/sincerely-media-dGxOgeXAXm8-unsplash.jpg
END:VEVENT
BEGIN:VEVENT
DTSTART;TZID=UTC:20290128T110000
DTEND;TZID=UTC:20290128T120000
DTSTAMP:20260422T000659
CREATED:20240819T191222Z
LAST-MODIFIED:20250316T204848Z
UID:10005232-1864292400-1864296000@renoforjesus.com
SUMMARY:Sunday Morning Service
DESCRIPTION:
URL:https://renoforjesus.com/event/sunday-morning-service/2029-01-28/
ATTACH;FMTTYPE=image/jpeg:https://renoforjesus.com/wp-content/uploads/2023/01/pedro-lima-IkqhfoJjwSI-unsplash-scaled.jpg
END:VEVENT
BEGIN:VEVENT
DTSTART;TZID=UTC:20290128T180000
DTEND;TZID=UTC:20290128T190000
DTSTAMP:20260422T000659
CREATED:20250316T205020Z
LAST-MODIFIED:20250316T205020Z
UID:10005522-1864317600-1864321200@renoforjesus.com
SUMMARY:Sunday Evening Service
DESCRIPTION:
URL:https://renoforjesus.com/event/sunday-evening-service-2/2029-01-28/
ATTACH;FMTTYPE=image/webp:https://renoforjesus.com/wp-content/uploads/2023/01/666402e-253w.webp
END:VEVENT
BEGIN:VEVENT
DTSTART;TZID=UTC:20290131T190000
DTEND;TZID=UTC:20290131T200000
DTSTAMP:20260422T000659
CREATED:20230115T005001Z
LAST-MODIFIED:20240819T194612Z
UID:10001967-1864580400-1864584000@renoforjesus.com
SUMMARY:Wednesday Service and Children's Church
DESCRIPTION:
URL:https://renoforjesus.com/event/wednesday-service-and-childrens-church/2029-01-31/
ATTACH;FMTTYPE=image/jpeg:https://renoforjesus.com/wp-content/uploads/2023/01/hannah-busing-G-_L3Eqkqmc-unsplash.jpg
END:VEVENT
BEGIN:VEVENT
DTSTART;TZID=UTC:20290202T183000
DTEND;TZID=UTC:20290202T203000
DTSTAMP:20260422T000659
CREATED:20230115T005214Z
LAST-MODIFIED:20240819T194928Z
UID:10002228-1864751400-1864758600@renoforjesus.com
SUMMARY:Youth Cross Fire Ministry
DESCRIPTION:For Teen and Young Adults 13 to 18 years of age.
URL:https://renoforjesus.com/event/youth-cross-fire-ministry/2029-02-02/
ATTACH;FMTTYPE=image/jpeg:https://renoforjesus.com/wp-content/uploads/2023/04/Copy-of-Youth-Conference-Made-with-PosterMyWall-e1724096115653.jpg
END:VEVENT
BEGIN:VEVENT
DTSTART;TZID=UTC:20290204T100000
DTEND;TZID=UTC:20290204T110000
DTSTAMP:20260422T000659
CREATED:20240819T194805Z
LAST-MODIFIED:20250316T204754Z
UID:10004943-1864893600-1864897200@renoforjesus.com
SUMMARY:Sunday School & Adult Bible Study
DESCRIPTION:
URL:https://renoforjesus.com/event/sunday-school-adult-bible-study/2029-02-04/
ATTACH;FMTTYPE=image/jpeg:https://renoforjesus.com/wp-content/uploads/2023/01/sincerely-media-dGxOgeXAXm8-unsplash.jpg
END:VEVENT
BEGIN:VEVENT
DTSTART;TZID=UTC:20290204T110000
DTEND;TZID=UTC:20290204T120000
DTSTAMP:20260422T000659
CREATED:20240819T191222Z
LAST-MODIFIED:20250316T204848Z
UID:10005233-1864897200-1864900800@renoforjesus.com
SUMMARY:Sunday Morning Service
DESCRIPTION:
URL:https://renoforjesus.com/event/sunday-morning-service/2029-02-04/
ATTACH;FMTTYPE=image/jpeg:https://renoforjesus.com/wp-content/uploads/2023/01/pedro-lima-IkqhfoJjwSI-unsplash-scaled.jpg
END:VEVENT
BEGIN:VEVENT
DTSTART;TZID=UTC:20290204T180000
DTEND;TZID=UTC:20290204T190000
DTSTAMP:20260422T000659
CREATED:20250316T205020Z
LAST-MODIFIED:20250316T205020Z
UID:10005523-1864922400-1864926000@renoforjesus.com
SUMMARY:Sunday Evening Service
DESCRIPTION:
URL:https://renoforjesus.com/event/sunday-evening-service-2/2029-02-04/
ATTACH;FMTTYPE=image/webp:https://renoforjesus.com/wp-content/uploads/2023/01/666402e-253w.webp
END:VEVENT
BEGIN:VEVENT
DTSTART;TZID=UTC:20290207T190000
DTEND;TZID=UTC:20290207T200000
DTSTAMP:20260422T000659
CREATED:20230115T005001Z
LAST-MODIFIED:20240819T194612Z
UID:10001968-1865185200-1865188800@renoforjesus.com
SUMMARY:Wednesday Service and Children's Church
DESCRIPTION:
URL:https://renoforjesus.com/event/wednesday-service-and-childrens-church/2029-02-07/
ATTACH;FMTTYPE=image/jpeg:https://renoforjesus.com/wp-content/uploads/2023/01/hannah-busing-G-_L3Eqkqmc-unsplash.jpg
END:VEVENT
BEGIN:VEVENT
DTSTART;TZID=UTC:20290209T183000
DTEND;TZID=UTC:20290209T203000
DTSTAMP:20260422T000659
CREATED:20230115T005214Z
LAST-MODIFIED:20240819T194928Z
UID:10002229-1865356200-1865363400@renoforjesus.com
SUMMARY:Youth Cross Fire Ministry
DESCRIPTION:For Teen and Young Adults 13 to 18 years of age.
URL:https://renoforjesus.com/event/youth-cross-fire-ministry/2029-02-09/
ATTACH;FMTTYPE=image/jpeg:https://renoforjesus.com/wp-content/uploads/2023/04/Copy-of-Youth-Conference-Made-with-PosterMyWall-e1724096115653.jpg
END:VEVENT
BEGIN:VEVENT
DTSTART;TZID=UTC:20290211T100000
DTEND;TZID=UTC:20290211T110000
DTSTAMP:20260422T000659
CREATED:20240819T194805Z
LAST-MODIFIED:20250316T204754Z
UID:10004944-1865498400-1865502000@renoforjesus.com
SUMMARY:Sunday School & Adult Bible Study
DESCRIPTION:
URL:https://renoforjesus.com/event/sunday-school-adult-bible-study/2029-02-11/
ATTACH;FMTTYPE=image/jpeg:https://renoforjesus.com/wp-content/uploads/2023/01/sincerely-media-dGxOgeXAXm8-unsplash.jpg
END:VEVENT
BEGIN:VEVENT
DTSTART;TZID=UTC:20290211T110000
DTEND;TZID=UTC:20290211T120000
DTSTAMP:20260422T000659
CREATED:20240819T191222Z
LAST-MODIFIED:20250316T204848Z
UID:10005234-1865502000-1865505600@renoforjesus.com
SUMMARY:Sunday Morning Service
DESCRIPTION:
URL:https://renoforjesus.com/event/sunday-morning-service/2029-02-11/
ATTACH;FMTTYPE=image/jpeg:https://renoforjesus.com/wp-content/uploads/2023/01/pedro-lima-IkqhfoJjwSI-unsplash-scaled.jpg
END:VEVENT
BEGIN:VEVENT
DTSTART;TZID=UTC:20290211T180000
DTEND;TZID=UTC:20290211T190000
DTSTAMP:20260422T000659
CREATED:20250316T205020Z
LAST-MODIFIED:20250316T205020Z
UID:10005524-1865527200-1865530800@renoforjesus.com
SUMMARY:Sunday Evening Service
DESCRIPTION:
URL:https://renoforjesus.com/event/sunday-evening-service-2/2029-02-11/
ATTACH;FMTTYPE=image/webp:https://renoforjesus.com/wp-content/uploads/2023/01/666402e-253w.webp
END:VEVENT
BEGIN:VEVENT
DTSTART;TZID=UTC:20290214T190000
DTEND;TZID=UTC:20290214T200000
DTSTAMP:20260422T000659
CREATED:20230115T005001Z
LAST-MODIFIED:20240819T194612Z
UID:10001969-1865790000-1865793600@renoforjesus.com
SUMMARY:Wednesday Service and Children's Church
DESCRIPTION:
URL:https://renoforjesus.com/event/wednesday-service-and-childrens-church/2029-02-14/
ATTACH;FMTTYPE=image/jpeg:https://renoforjesus.com/wp-content/uploads/2023/01/hannah-busing-G-_L3Eqkqmc-unsplash.jpg
END:VEVENT
BEGIN:VEVENT
DTSTART;TZID=UTC:20290216T183000
DTEND;TZID=UTC:20290216T203000
DTSTAMP:20260422T000659
CREATED:20230115T005214Z
LAST-MODIFIED:20240819T194928Z
UID:10002230-1865961000-1865968200@renoforjesus.com
SUMMARY:Youth Cross Fire Ministry
DESCRIPTION:For Teen and Young Adults 13 to 18 years of age.
URL:https://renoforjesus.com/event/youth-cross-fire-ministry/2029-02-16/
ATTACH;FMTTYPE=image/jpeg:https://renoforjesus.com/wp-content/uploads/2023/04/Copy-of-Youth-Conference-Made-with-PosterMyWall-e1724096115653.jpg
END:VEVENT
BEGIN:VEVENT
DTSTART;TZID=UTC:20290218T100000
DTEND;TZID=UTC:20290218T110000
DTSTAMP:20260422T000659
CREATED:20240819T194805Z
LAST-MODIFIED:20250316T204754Z
UID:10004945-1866103200-1866106800@renoforjesus.com
SUMMARY:Sunday School & Adult Bible Study
DESCRIPTION:
URL:https://renoforjesus.com/event/sunday-school-adult-bible-study/2029-02-18/
ATTACH;FMTTYPE=image/jpeg:https://renoforjesus.com/wp-content/uploads/2023/01/sincerely-media-dGxOgeXAXm8-unsplash.jpg
END:VEVENT
BEGIN:VEVENT
DTSTART;TZID=UTC:20290218T110000
DTEND;TZID=UTC:20290218T120000
DTSTAMP:20260422T000659
CREATED:20240819T191222Z
LAST-MODIFIED:20250316T204848Z
UID:10005235-1866106800-1866110400@renoforjesus.com
SUMMARY:Sunday Morning Service
DESCRIPTION:
URL:https://renoforjesus.com/event/sunday-morning-service/2029-02-18/
ATTACH;FMTTYPE=image/jpeg:https://renoforjesus.com/wp-content/uploads/2023/01/pedro-lima-IkqhfoJjwSI-unsplash-scaled.jpg
END:VEVENT
BEGIN:VEVENT
DTSTART;TZID=UTC:20290218T180000
DTEND;TZID=UTC:20290218T190000
DTSTAMP:20260422T000659
CREATED:20250316T205020Z
LAST-MODIFIED:20250316T205020Z
UID:10005525-1866132000-1866135600@renoforjesus.com
SUMMARY:Sunday Evening Service
DESCRIPTION:
URL:https://renoforjesus.com/event/sunday-evening-service-2/2029-02-18/
ATTACH;FMTTYPE=image/webp:https://renoforjesus.com/wp-content/uploads/2023/01/666402e-253w.webp
END:VEVENT
BEGIN:VEVENT
DTSTART;TZID=UTC:20290221T190000
DTEND;TZID=UTC:20290221T200000
DTSTAMP:20260422T000659
CREATED:20230115T005001Z
LAST-MODIFIED:20240819T194612Z
UID:10001970-1866394800-1866398400@renoforjesus.com
SUMMARY:Wednesday Service and Children's Church
DESCRIPTION:
URL:https://renoforjesus.com/event/wednesday-service-and-childrens-church/2029-02-21/
ATTACH;FMTTYPE=image/jpeg:https://renoforjesus.com/wp-content/uploads/2023/01/hannah-busing-G-_L3Eqkqmc-unsplash.jpg
END:VEVENT
BEGIN:VEVENT
DTSTART;TZID=UTC:20290223T183000
DTEND;TZID=UTC:20290223T203000
DTSTAMP:20260422T000659
CREATED:20230115T005214Z
LAST-MODIFIED:20240819T194928Z
UID:10002231-1866565800-1866573000@renoforjesus.com
SUMMARY:Youth Cross Fire Ministry
DESCRIPTION:For Teen and Young Adults 13 to 18 years of age.
URL:https://renoforjesus.com/event/youth-cross-fire-ministry/2029-02-23/
ATTACH;FMTTYPE=image/jpeg:https://renoforjesus.com/wp-content/uploads/2023/04/Copy-of-Youth-Conference-Made-with-PosterMyWall-e1724096115653.jpg
END:VEVENT
BEGIN:VEVENT
DTSTART;TZID=UTC:20290225T100000
DTEND;TZID=UTC:20290225T110000
DTSTAMP:20260422T000659
CREATED:20240819T194805Z
LAST-MODIFIED:20250316T204754Z
UID:10004946-1866708000-1866711600@renoforjesus.com
SUMMARY:Sunday School & Adult Bible Study
DESCRIPTION:
URL:https://renoforjesus.com/event/sunday-school-adult-bible-study/2029-02-25/
ATTACH;FMTTYPE=image/jpeg:https://renoforjesus.com/wp-content/uploads/2023/01/sincerely-media-dGxOgeXAXm8-unsplash.jpg
END:VEVENT
BEGIN:VEVENT
DTSTART;TZID=UTC:20290225T110000
DTEND;TZID=UTC:20290225T120000
DTSTAMP:20260422T000659
CREATED:20240819T191222Z
LAST-MODIFIED:20250316T204848Z
UID:10005236-1866711600-1866715200@renoforjesus.com
SUMMARY:Sunday Morning Service
DESCRIPTION:
URL:https://renoforjesus.com/event/sunday-morning-service/2029-02-25/
ATTACH;FMTTYPE=image/jpeg:https://renoforjesus.com/wp-content/uploads/2023/01/pedro-lima-IkqhfoJjwSI-unsplash-scaled.jpg
END:VEVENT
BEGIN:VEVENT
DTSTART;TZID=UTC:20290225T180000
DTEND;TZID=UTC:20290225T190000
DTSTAMP:20260422T000659
CREATED:20250316T205020Z
LAST-MODIFIED:20250316T205020Z
UID:10005526-1866736800-1866740400@renoforjesus.com
SUMMARY:Sunday Evening Service
DESCRIPTION:
URL:https://renoforjesus.com/event/sunday-evening-service-2/2029-02-25/
ATTACH;FMTTYPE=image/webp:https://renoforjesus.com/wp-content/uploads/2023/01/666402e-253w.webp
END:VEVENT
BEGIN:VEVENT
DTSTART;TZID=UTC:20290228T190000
DTEND;TZID=UTC:20290228T200000
DTSTAMP:20260422T000659
CREATED:20230115T005001Z
LAST-MODIFIED:20240819T194612Z
UID:10001971-1866999600-1867003200@renoforjesus.com
SUMMARY:Wednesday Service and Children's Church
DESCRIPTION:
URL:https://renoforjesus.com/event/wednesday-service-and-childrens-church/2029-02-28/
ATTACH;FMTTYPE=image/jpeg:https://renoforjesus.com/wp-content/uploads/2023/01/hannah-busing-G-_L3Eqkqmc-unsplash.jpg
END:VEVENT
BEGIN:VEVENT
DTSTART;TZID=UTC:20290302T183000
DTEND;TZID=UTC:20290302T203000
DTSTAMP:20260422T000659
CREATED:20230115T005214Z
LAST-MODIFIED:20240819T194928Z
UID:10002232-1867170600-1867177800@renoforjesus.com
SUMMARY:Youth Cross Fire Ministry
DESCRIPTION:For Teen and Young Adults 13 to 18 years of age.
URL:https://renoforjesus.com/event/youth-cross-fire-ministry/2029-03-02/
ATTACH;FMTTYPE=image/jpeg:https://renoforjesus.com/wp-content/uploads/2023/04/Copy-of-Youth-Conference-Made-with-PosterMyWall-e1724096115653.jpg
END:VEVENT
BEGIN:VEVENT
DTSTART;TZID=UTC:20290304T100000
DTEND;TZID=UTC:20290304T110000
DTSTAMP:20260422T000659
CREATED:20240819T194805Z
LAST-MODIFIED:20250316T204754Z
UID:10004947-1867312800-1867316400@renoforjesus.com
SUMMARY:Sunday School & Adult Bible Study
DESCRIPTION:
URL:https://renoforjesus.com/event/sunday-school-adult-bible-study/2029-03-04/
ATTACH;FMTTYPE=image/jpeg:https://renoforjesus.com/wp-content/uploads/2023/01/sincerely-media-dGxOgeXAXm8-unsplash.jpg
END:VEVENT
BEGIN:VEVENT
DTSTART;TZID=UTC:20290304T110000
DTEND;TZID=UTC:20290304T120000
DTSTAMP:20260422T000659
CREATED:20240819T191222Z
LAST-MODIFIED:20250316T204848Z
UID:10005237-1867316400-1867320000@renoforjesus.com
SUMMARY:Sunday Morning Service
DESCRIPTION:
URL:https://renoforjesus.com/event/sunday-morning-service/2029-03-04/
ATTACH;FMTTYPE=image/jpeg:https://renoforjesus.com/wp-content/uploads/2023/01/pedro-lima-IkqhfoJjwSI-unsplash-scaled.jpg
END:VEVENT
BEGIN:VEVENT
DTSTART;TZID=UTC:20290304T180000
DTEND;TZID=UTC:20290304T190000
DTSTAMP:20260422T000659
CREATED:20250316T205020Z
LAST-MODIFIED:20250316T205020Z
UID:10005527-1867341600-1867345200@renoforjesus.com
SUMMARY:Sunday Evening Service
DESCRIPTION:
URL:https://renoforjesus.com/event/sunday-evening-service-2/2029-03-04/
ATTACH;FMTTYPE=image/webp:https://renoforjesus.com/wp-content/uploads/2023/01/666402e-253w.webp
END:VEVENT
END:VCALENDAR