BEGIN:VCALENDAR
VERSION:2.0
PRODID:-//Christian Fellowship Of Reno - ECPv6.15.20//NONSGML v1.0//EN
CALSCALE:GREGORIAN
METHOD:PUBLISH
X-WR-CALNAME:Christian Fellowship Of Reno
X-ORIGINAL-URL:https://renoforjesus.com
X-WR-CALDESC:Events for Christian Fellowship Of Reno
REFRESH-INTERVAL;VALUE=DURATION:PT1H
X-Robots-Tag:noindex
X-PUBLISHED-TTL:PT1H
BEGIN:VTIMEZONE
TZID:UTC
BEGIN:STANDARD
TZOFFSETFROM:+0000
TZOFFSETTO:+0000
TZNAME:UTC
DTSTART:20270101T000000
END:STANDARD
END:VTIMEZONE
BEGIN:VEVENT
DTSTART;TZID=UTC:20281129T190000
DTEND;TZID=UTC:20281129T200000
DTSTAMP:20260421T175833
CREATED:20230115T005001Z
LAST-MODIFIED:20240819T194612Z
UID:10001958-1859137200-1859140800@renoforjesus.com
SUMMARY:Wednesday Service and Children's Church
DESCRIPTION:
URL:https://renoforjesus.com/event/wednesday-service-and-childrens-church/2028-11-29/
ATTACH;FMTTYPE=image/jpeg:https://renoforjesus.com/wp-content/uploads/2023/01/hannah-busing-G-_L3Eqkqmc-unsplash.jpg
END:VEVENT
BEGIN:VEVENT
DTSTART;TZID=UTC:20281201T183000
DTEND;TZID=UTC:20281201T203000
DTSTAMP:20260421T175833
CREATED:20230115T005214Z
LAST-MODIFIED:20240819T194928Z
UID:10002219-1859308200-1859315400@renoforjesus.com
SUMMARY:Youth Cross Fire Ministry
DESCRIPTION:For Teen and Young Adults 13 to 18 years of age.
URL:https://renoforjesus.com/event/youth-cross-fire-ministry/2028-12-01/
ATTACH;FMTTYPE=image/jpeg:https://renoforjesus.com/wp-content/uploads/2023/04/Copy-of-Youth-Conference-Made-with-PosterMyWall-e1724096115653.jpg
END:VEVENT
BEGIN:VEVENT
DTSTART;TZID=UTC:20281203T100000
DTEND;TZID=UTC:20281203T110000
DTSTAMP:20260421T175833
CREATED:20240819T194805Z
LAST-MODIFIED:20250316T204754Z
UID:10004934-1859450400-1859454000@renoforjesus.com
SUMMARY:Sunday School & Adult Bible Study
DESCRIPTION:
URL:https://renoforjesus.com/event/sunday-school-adult-bible-study/2028-12-03/
ATTACH;FMTTYPE=image/jpeg:https://renoforjesus.com/wp-content/uploads/2023/01/sincerely-media-dGxOgeXAXm8-unsplash.jpg
END:VEVENT
BEGIN:VEVENT
DTSTART;TZID=UTC:20281203T110000
DTEND;TZID=UTC:20281203T120000
DTSTAMP:20260421T175833
CREATED:20240819T191222Z
LAST-MODIFIED:20250316T204848Z
UID:10005224-1859454000-1859457600@renoforjesus.com
SUMMARY:Sunday Morning Service
DESCRIPTION:
URL:https://renoforjesus.com/event/sunday-morning-service/2028-12-03/
ATTACH;FMTTYPE=image/jpeg:https://renoforjesus.com/wp-content/uploads/2023/01/pedro-lima-IkqhfoJjwSI-unsplash-scaled.jpg
END:VEVENT
BEGIN:VEVENT
DTSTART;TZID=UTC:20281203T180000
DTEND;TZID=UTC:20281203T190000
DTSTAMP:20260421T175833
CREATED:20250316T205020Z
LAST-MODIFIED:20250316T205020Z
UID:10005514-1859479200-1859482800@renoforjesus.com
SUMMARY:Sunday Evening Service
DESCRIPTION:
URL:https://renoforjesus.com/event/sunday-evening-service-2/2028-12-03/
ATTACH;FMTTYPE=image/webp:https://renoforjesus.com/wp-content/uploads/2023/01/666402e-253w.webp
END:VEVENT
BEGIN:VEVENT
DTSTART;TZID=UTC:20281206T190000
DTEND;TZID=UTC:20281206T200000
DTSTAMP:20260421T175833
CREATED:20230115T005001Z
LAST-MODIFIED:20240819T194612Z
UID:10001959-1859742000-1859745600@renoforjesus.com
SUMMARY:Wednesday Service and Children's Church
DESCRIPTION:
URL:https://renoforjesus.com/event/wednesday-service-and-childrens-church/2028-12-06/
ATTACH;FMTTYPE=image/jpeg:https://renoforjesus.com/wp-content/uploads/2023/01/hannah-busing-G-_L3Eqkqmc-unsplash.jpg
END:VEVENT
BEGIN:VEVENT
DTSTART;TZID=UTC:20281208T183000
DTEND;TZID=UTC:20281208T203000
DTSTAMP:20260421T175833
CREATED:20230115T005214Z
LAST-MODIFIED:20240819T194928Z
UID:10002220-1859913000-1859920200@renoforjesus.com
SUMMARY:Youth Cross Fire Ministry
DESCRIPTION:For Teen and Young Adults 13 to 18 years of age.
URL:https://renoforjesus.com/event/youth-cross-fire-ministry/2028-12-08/
ATTACH;FMTTYPE=image/jpeg:https://renoforjesus.com/wp-content/uploads/2023/04/Copy-of-Youth-Conference-Made-with-PosterMyWall-e1724096115653.jpg
END:VEVENT
BEGIN:VEVENT
DTSTART;TZID=UTC:20281210T100000
DTEND;TZID=UTC:20281210T110000
DTSTAMP:20260421T175833
CREATED:20240819T194805Z
LAST-MODIFIED:20250316T204754Z
UID:10004935-1860055200-1860058800@renoforjesus.com
SUMMARY:Sunday School & Adult Bible Study
DESCRIPTION:
URL:https://renoforjesus.com/event/sunday-school-adult-bible-study/2028-12-10/
ATTACH;FMTTYPE=image/jpeg:https://renoforjesus.com/wp-content/uploads/2023/01/sincerely-media-dGxOgeXAXm8-unsplash.jpg
END:VEVENT
BEGIN:VEVENT
DTSTART;TZID=UTC:20281210T110000
DTEND;TZID=UTC:20281210T120000
DTSTAMP:20260421T175833
CREATED:20240819T191222Z
LAST-MODIFIED:20250316T204848Z
UID:10005225-1860058800-1860062400@renoforjesus.com
SUMMARY:Sunday Morning Service
DESCRIPTION:
URL:https://renoforjesus.com/event/sunday-morning-service/2028-12-10/
ATTACH;FMTTYPE=image/jpeg:https://renoforjesus.com/wp-content/uploads/2023/01/pedro-lima-IkqhfoJjwSI-unsplash-scaled.jpg
END:VEVENT
BEGIN:VEVENT
DTSTART;TZID=UTC:20281210T180000
DTEND;TZID=UTC:20281210T190000
DTSTAMP:20260421T175833
CREATED:20250316T205020Z
LAST-MODIFIED:20250316T205020Z
UID:10005515-1860084000-1860087600@renoforjesus.com
SUMMARY:Sunday Evening Service
DESCRIPTION:
URL:https://renoforjesus.com/event/sunday-evening-service-2/2028-12-10/
ATTACH;FMTTYPE=image/webp:https://renoforjesus.com/wp-content/uploads/2023/01/666402e-253w.webp
END:VEVENT
BEGIN:VEVENT
DTSTART;TZID=UTC:20281213T190000
DTEND;TZID=UTC:20281213T200000
DTSTAMP:20260421T175833
CREATED:20230115T005001Z
LAST-MODIFIED:20240819T194612Z
UID:10001960-1860346800-1860350400@renoforjesus.com
SUMMARY:Wednesday Service and Children's Church
DESCRIPTION:
URL:https://renoforjesus.com/event/wednesday-service-and-childrens-church/2028-12-13/
ATTACH;FMTTYPE=image/jpeg:https://renoforjesus.com/wp-content/uploads/2023/01/hannah-busing-G-_L3Eqkqmc-unsplash.jpg
END:VEVENT
BEGIN:VEVENT
DTSTART;TZID=UTC:20281215T183000
DTEND;TZID=UTC:20281215T203000
DTSTAMP:20260421T175833
CREATED:20230115T005214Z
LAST-MODIFIED:20240819T194928Z
UID:10002221-1860517800-1860525000@renoforjesus.com
SUMMARY:Youth Cross Fire Ministry
DESCRIPTION:For Teen and Young Adults 13 to 18 years of age.
URL:https://renoforjesus.com/event/youth-cross-fire-ministry/2028-12-15/
ATTACH;FMTTYPE=image/jpeg:https://renoforjesus.com/wp-content/uploads/2023/04/Copy-of-Youth-Conference-Made-with-PosterMyWall-e1724096115653.jpg
END:VEVENT
BEGIN:VEVENT
DTSTART;TZID=UTC:20281217T100000
DTEND;TZID=UTC:20281217T110000
DTSTAMP:20260421T175833
CREATED:20240819T194805Z
LAST-MODIFIED:20250316T204754Z
UID:10004936-1860660000-1860663600@renoforjesus.com
SUMMARY:Sunday School & Adult Bible Study
DESCRIPTION:
URL:https://renoforjesus.com/event/sunday-school-adult-bible-study/2028-12-17/
ATTACH;FMTTYPE=image/jpeg:https://renoforjesus.com/wp-content/uploads/2023/01/sincerely-media-dGxOgeXAXm8-unsplash.jpg
END:VEVENT
BEGIN:VEVENT
DTSTART;TZID=UTC:20281217T110000
DTEND;TZID=UTC:20281217T120000
DTSTAMP:20260421T175833
CREATED:20240819T191222Z
LAST-MODIFIED:20250316T204848Z
UID:10005226-1860663600-1860667200@renoforjesus.com
SUMMARY:Sunday Morning Service
DESCRIPTION:
URL:https://renoforjesus.com/event/sunday-morning-service/2028-12-17/
ATTACH;FMTTYPE=image/jpeg:https://renoforjesus.com/wp-content/uploads/2023/01/pedro-lima-IkqhfoJjwSI-unsplash-scaled.jpg
END:VEVENT
BEGIN:VEVENT
DTSTART;TZID=UTC:20281217T180000
DTEND;TZID=UTC:20281217T190000
DTSTAMP:20260421T175833
CREATED:20250316T205020Z
LAST-MODIFIED:20250316T205020Z
UID:10005516-1860688800-1860692400@renoforjesus.com
SUMMARY:Sunday Evening Service
DESCRIPTION:
URL:https://renoforjesus.com/event/sunday-evening-service-2/2028-12-17/
ATTACH;FMTTYPE=image/webp:https://renoforjesus.com/wp-content/uploads/2023/01/666402e-253w.webp
END:VEVENT
BEGIN:VEVENT
DTSTART;TZID=UTC:20281220T190000
DTEND;TZID=UTC:20281220T200000
DTSTAMP:20260421T175833
CREATED:20230115T005001Z
LAST-MODIFIED:20240819T194612Z
UID:10001961-1860951600-1860955200@renoforjesus.com
SUMMARY:Wednesday Service and Children's Church
DESCRIPTION:
URL:https://renoforjesus.com/event/wednesday-service-and-childrens-church/2028-12-20/
ATTACH;FMTTYPE=image/jpeg:https://renoforjesus.com/wp-content/uploads/2023/01/hannah-busing-G-_L3Eqkqmc-unsplash.jpg
END:VEVENT
BEGIN:VEVENT
DTSTART;TZID=UTC:20281222T183000
DTEND;TZID=UTC:20281222T203000
DTSTAMP:20260421T175833
CREATED:20230115T005214Z
LAST-MODIFIED:20240819T194928Z
UID:10002222-1861122600-1861129800@renoforjesus.com
SUMMARY:Youth Cross Fire Ministry
DESCRIPTION:For Teen and Young Adults 13 to 18 years of age.
URL:https://renoforjesus.com/event/youth-cross-fire-ministry/2028-12-22/
ATTACH;FMTTYPE=image/jpeg:https://renoforjesus.com/wp-content/uploads/2023/04/Copy-of-Youth-Conference-Made-with-PosterMyWall-e1724096115653.jpg
END:VEVENT
BEGIN:VEVENT
DTSTART;TZID=UTC:20281224T100000
DTEND;TZID=UTC:20281224T110000
DTSTAMP:20260421T175833
CREATED:20240819T194805Z
LAST-MODIFIED:20250316T204754Z
UID:10004937-1861264800-1861268400@renoforjesus.com
SUMMARY:Sunday School & Adult Bible Study
DESCRIPTION:
URL:https://renoforjesus.com/event/sunday-school-adult-bible-study/2028-12-24/
ATTACH;FMTTYPE=image/jpeg:https://renoforjesus.com/wp-content/uploads/2023/01/sincerely-media-dGxOgeXAXm8-unsplash.jpg
END:VEVENT
BEGIN:VEVENT
DTSTART;TZID=UTC:20281224T110000
DTEND;TZID=UTC:20281224T120000
DTSTAMP:20260421T175833
CREATED:20240819T191222Z
LAST-MODIFIED:20250316T204848Z
UID:10005227-1861268400-1861272000@renoforjesus.com
SUMMARY:Sunday Morning Service
DESCRIPTION:
URL:https://renoforjesus.com/event/sunday-morning-service/2028-12-24/
ATTACH;FMTTYPE=image/jpeg:https://renoforjesus.com/wp-content/uploads/2023/01/pedro-lima-IkqhfoJjwSI-unsplash-scaled.jpg
END:VEVENT
BEGIN:VEVENT
DTSTART;TZID=UTC:20281224T180000
DTEND;TZID=UTC:20281224T190000
DTSTAMP:20260421T175833
CREATED:20250316T205020Z
LAST-MODIFIED:20250316T205020Z
UID:10005517-1861293600-1861297200@renoforjesus.com
SUMMARY:Sunday Evening Service
DESCRIPTION:
URL:https://renoforjesus.com/event/sunday-evening-service-2/2028-12-24/
ATTACH;FMTTYPE=image/webp:https://renoforjesus.com/wp-content/uploads/2023/01/666402e-253w.webp
END:VEVENT
BEGIN:VEVENT
DTSTART;TZID=UTC:20281227T190000
DTEND;TZID=UTC:20281227T200000
DTSTAMP:20260421T175833
CREATED:20230115T005001Z
LAST-MODIFIED:20240819T194612Z
UID:10001962-1861556400-1861560000@renoforjesus.com
SUMMARY:Wednesday Service and Children's Church
DESCRIPTION:
URL:https://renoforjesus.com/event/wednesday-service-and-childrens-church/2028-12-27/
ATTACH;FMTTYPE=image/jpeg:https://renoforjesus.com/wp-content/uploads/2023/01/hannah-busing-G-_L3Eqkqmc-unsplash.jpg
END:VEVENT
BEGIN:VEVENT
DTSTART;TZID=UTC:20281229T183000
DTEND;TZID=UTC:20281229T203000
DTSTAMP:20260421T175833
CREATED:20230115T005214Z
LAST-MODIFIED:20240819T194928Z
UID:10002223-1861727400-1861734600@renoforjesus.com
SUMMARY:Youth Cross Fire Ministry
DESCRIPTION:For Teen and Young Adults 13 to 18 years of age.
URL:https://renoforjesus.com/event/youth-cross-fire-ministry/2028-12-29/
ATTACH;FMTTYPE=image/jpeg:https://renoforjesus.com/wp-content/uploads/2023/04/Copy-of-Youth-Conference-Made-with-PosterMyWall-e1724096115653.jpg
END:VEVENT
BEGIN:VEVENT
DTSTART;TZID=UTC:20281231T100000
DTEND;TZID=UTC:20281231T110000
DTSTAMP:20260421T175833
CREATED:20240819T194805Z
LAST-MODIFIED:20250316T204754Z
UID:10004938-1861869600-1861873200@renoforjesus.com
SUMMARY:Sunday School & Adult Bible Study
DESCRIPTION:
URL:https://renoforjesus.com/event/sunday-school-adult-bible-study/2028-12-31/
ATTACH;FMTTYPE=image/jpeg:https://renoforjesus.com/wp-content/uploads/2023/01/sincerely-media-dGxOgeXAXm8-unsplash.jpg
END:VEVENT
BEGIN:VEVENT
DTSTART;TZID=UTC:20281231T110000
DTEND;TZID=UTC:20281231T120000
DTSTAMP:20260421T175833
CREATED:20240819T191222Z
LAST-MODIFIED:20250316T204848Z
UID:10005228-1861873200-1861876800@renoforjesus.com
SUMMARY:Sunday Morning Service
DESCRIPTION:
URL:https://renoforjesus.com/event/sunday-morning-service/2028-12-31/
ATTACH;FMTTYPE=image/jpeg:https://renoforjesus.com/wp-content/uploads/2023/01/pedro-lima-IkqhfoJjwSI-unsplash-scaled.jpg
END:VEVENT
BEGIN:VEVENT
DTSTART;TZID=UTC:20281231T180000
DTEND;TZID=UTC:20281231T190000
DTSTAMP:20260421T175833
CREATED:20250316T205020Z
LAST-MODIFIED:20250316T205020Z
UID:10005518-1861898400-1861902000@renoforjesus.com
SUMMARY:Sunday Evening Service
DESCRIPTION:
URL:https://renoforjesus.com/event/sunday-evening-service-2/2028-12-31/
ATTACH;FMTTYPE=image/webp:https://renoforjesus.com/wp-content/uploads/2023/01/666402e-253w.webp
END:VEVENT
BEGIN:VEVENT
DTSTART;TZID=UTC:20290103T190000
DTEND;TZID=UTC:20290103T200000
DTSTAMP:20260421T175833
CREATED:20230115T005001Z
LAST-MODIFIED:20240819T194612Z
UID:10001963-1862161200-1862164800@renoforjesus.com
SUMMARY:Wednesday Service and Children's Church
DESCRIPTION:
URL:https://renoforjesus.com/event/wednesday-service-and-childrens-church/2029-01-03/
ATTACH;FMTTYPE=image/jpeg:https://renoforjesus.com/wp-content/uploads/2023/01/hannah-busing-G-_L3Eqkqmc-unsplash.jpg
END:VEVENT
BEGIN:VEVENT
DTSTART;TZID=UTC:20290105T183000
DTEND;TZID=UTC:20290105T203000
DTSTAMP:20260421T175833
CREATED:20230115T005214Z
LAST-MODIFIED:20240819T194928Z
UID:10002224-1862332200-1862339400@renoforjesus.com
SUMMARY:Youth Cross Fire Ministry
DESCRIPTION:For Teen and Young Adults 13 to 18 years of age.
URL:https://renoforjesus.com/event/youth-cross-fire-ministry/2029-01-05/
ATTACH;FMTTYPE=image/jpeg:https://renoforjesus.com/wp-content/uploads/2023/04/Copy-of-Youth-Conference-Made-with-PosterMyWall-e1724096115653.jpg
END:VEVENT
BEGIN:VEVENT
DTSTART;TZID=UTC:20290107T100000
DTEND;TZID=UTC:20290107T110000
DTSTAMP:20260421T175833
CREATED:20240819T194805Z
LAST-MODIFIED:20250316T204754Z
UID:10004939-1862474400-1862478000@renoforjesus.com
SUMMARY:Sunday School & Adult Bible Study
DESCRIPTION:
URL:https://renoforjesus.com/event/sunday-school-adult-bible-study/2029-01-07/
ATTACH;FMTTYPE=image/jpeg:https://renoforjesus.com/wp-content/uploads/2023/01/sincerely-media-dGxOgeXAXm8-unsplash.jpg
END:VEVENT
BEGIN:VEVENT
DTSTART;TZID=UTC:20290107T110000
DTEND;TZID=UTC:20290107T120000
DTSTAMP:20260421T175833
CREATED:20240819T191222Z
LAST-MODIFIED:20250316T204848Z
UID:10005229-1862478000-1862481600@renoforjesus.com
SUMMARY:Sunday Morning Service
DESCRIPTION:
URL:https://renoforjesus.com/event/sunday-morning-service/2029-01-07/
ATTACH;FMTTYPE=image/jpeg:https://renoforjesus.com/wp-content/uploads/2023/01/pedro-lima-IkqhfoJjwSI-unsplash-scaled.jpg
END:VEVENT
BEGIN:VEVENT
DTSTART;TZID=UTC:20290107T180000
DTEND;TZID=UTC:20290107T190000
DTSTAMP:20260421T175833
CREATED:20250316T205020Z
LAST-MODIFIED:20250316T205020Z
UID:10005519-1862503200-1862506800@renoforjesus.com
SUMMARY:Sunday Evening Service
DESCRIPTION:
URL:https://renoforjesus.com/event/sunday-evening-service-2/2029-01-07/
ATTACH;FMTTYPE=image/webp:https://renoforjesus.com/wp-content/uploads/2023/01/666402e-253w.webp
END:VEVENT
END:VCALENDAR