BEGIN:VCALENDAR
VERSION:2.0
PRODID:-//Christian Fellowship Of Reno - ECPv6.15.20//NONSGML v1.0//EN
CALSCALE:GREGORIAN
METHOD:PUBLISH
X-WR-CALNAME:Christian Fellowship Of Reno
X-ORIGINAL-URL:https://renoforjesus.com
X-WR-CALDESC:Events for Christian Fellowship Of Reno
REFRESH-INTERVAL;VALUE=DURATION:PT1H
X-Robots-Tag:noindex
X-PUBLISHED-TTL:PT1H
BEGIN:VTIMEZONE
TZID:UTC
BEGIN:STANDARD
TZOFFSETFROM:+0000
TZOFFSETTO:+0000
TZNAME:UTC
DTSTART:20270101T000000
END:STANDARD
END:VTIMEZONE
BEGIN:VEVENT
DTSTART;TZID=UTC:20281004T190000
DTEND;TZID=UTC:20281004T200000
DTSTAMP:20260421T063036
CREATED:20230115T005001Z
LAST-MODIFIED:20240819T194612Z
UID:10001950-1854298800-1854302400@renoforjesus.com
SUMMARY:Wednesday Service and Children's Church
DESCRIPTION:
URL:https://renoforjesus.com/event/wednesday-service-and-childrens-church/2028-10-04/
ATTACH;FMTTYPE=image/jpeg:https://renoforjesus.com/wp-content/uploads/2023/01/hannah-busing-G-_L3Eqkqmc-unsplash.jpg
END:VEVENT
BEGIN:VEVENT
DTSTART;TZID=UTC:20281006T183000
DTEND;TZID=UTC:20281006T203000
DTSTAMP:20260421T063036
CREATED:20230115T005214Z
LAST-MODIFIED:20240819T194928Z
UID:10002211-1854469800-1854477000@renoforjesus.com
SUMMARY:Youth Cross Fire Ministry
DESCRIPTION:For Teen and Young Adults 13 to 18 years of age.
URL:https://renoforjesus.com/event/youth-cross-fire-ministry/2028-10-06/
ATTACH;FMTTYPE=image/jpeg:https://renoforjesus.com/wp-content/uploads/2023/04/Copy-of-Youth-Conference-Made-with-PosterMyWall-e1724096115653.jpg
END:VEVENT
BEGIN:VEVENT
DTSTART;TZID=UTC:20281008T100000
DTEND;TZID=UTC:20281008T110000
DTSTAMP:20260421T063036
CREATED:20240819T194805Z
LAST-MODIFIED:20250316T204754Z
UID:10004926-1854612000-1854615600@renoforjesus.com
SUMMARY:Sunday School & Adult Bible Study
DESCRIPTION:
URL:https://renoforjesus.com/event/sunday-school-adult-bible-study/2028-10-08/
ATTACH;FMTTYPE=image/jpeg:https://renoforjesus.com/wp-content/uploads/2023/01/sincerely-media-dGxOgeXAXm8-unsplash.jpg
END:VEVENT
BEGIN:VEVENT
DTSTART;TZID=UTC:20281008T110000
DTEND;TZID=UTC:20281008T120000
DTSTAMP:20260421T063036
CREATED:20240819T191222Z
LAST-MODIFIED:20250316T204848Z
UID:10005216-1854615600-1854619200@renoforjesus.com
SUMMARY:Sunday Morning Service
DESCRIPTION:
URL:https://renoforjesus.com/event/sunday-morning-service/2028-10-08/
ATTACH;FMTTYPE=image/jpeg:https://renoforjesus.com/wp-content/uploads/2023/01/pedro-lima-IkqhfoJjwSI-unsplash-scaled.jpg
END:VEVENT
BEGIN:VEVENT
DTSTART;TZID=UTC:20281008T180000
DTEND;TZID=UTC:20281008T190000
DTSTAMP:20260421T063036
CREATED:20250316T205020Z
LAST-MODIFIED:20250316T205020Z
UID:10005506-1854640800-1854644400@renoforjesus.com
SUMMARY:Sunday Evening Service
DESCRIPTION:
URL:https://renoforjesus.com/event/sunday-evening-service-2/2028-10-08/
ATTACH;FMTTYPE=image/webp:https://renoforjesus.com/wp-content/uploads/2023/01/666402e-253w.webp
END:VEVENT
BEGIN:VEVENT
DTSTART;TZID=UTC:20281011T190000
DTEND;TZID=UTC:20281011T200000
DTSTAMP:20260421T063036
CREATED:20230115T005001Z
LAST-MODIFIED:20240819T194612Z
UID:10001951-1854903600-1854907200@renoforjesus.com
SUMMARY:Wednesday Service and Children's Church
DESCRIPTION:
URL:https://renoforjesus.com/event/wednesday-service-and-childrens-church/2028-10-11/
ATTACH;FMTTYPE=image/jpeg:https://renoforjesus.com/wp-content/uploads/2023/01/hannah-busing-G-_L3Eqkqmc-unsplash.jpg
END:VEVENT
BEGIN:VEVENT
DTSTART;TZID=UTC:20281013T183000
DTEND;TZID=UTC:20281013T203000
DTSTAMP:20260421T063036
CREATED:20230115T005214Z
LAST-MODIFIED:20240819T194928Z
UID:10002212-1855074600-1855081800@renoforjesus.com
SUMMARY:Youth Cross Fire Ministry
DESCRIPTION:For Teen and Young Adults 13 to 18 years of age.
URL:https://renoforjesus.com/event/youth-cross-fire-ministry/2028-10-13/
ATTACH;FMTTYPE=image/jpeg:https://renoforjesus.com/wp-content/uploads/2023/04/Copy-of-Youth-Conference-Made-with-PosterMyWall-e1724096115653.jpg
END:VEVENT
BEGIN:VEVENT
DTSTART;TZID=UTC:20281015T100000
DTEND;TZID=UTC:20281015T110000
DTSTAMP:20260421T063036
CREATED:20240819T194805Z
LAST-MODIFIED:20250316T204754Z
UID:10004927-1855216800-1855220400@renoforjesus.com
SUMMARY:Sunday School & Adult Bible Study
DESCRIPTION:
URL:https://renoforjesus.com/event/sunday-school-adult-bible-study/2028-10-15/
ATTACH;FMTTYPE=image/jpeg:https://renoforjesus.com/wp-content/uploads/2023/01/sincerely-media-dGxOgeXAXm8-unsplash.jpg
END:VEVENT
BEGIN:VEVENT
DTSTART;TZID=UTC:20281015T110000
DTEND;TZID=UTC:20281015T120000
DTSTAMP:20260421T063036
CREATED:20240819T191222Z
LAST-MODIFIED:20250316T204848Z
UID:10005217-1855220400-1855224000@renoforjesus.com
SUMMARY:Sunday Morning Service
DESCRIPTION:
URL:https://renoforjesus.com/event/sunday-morning-service/2028-10-15/
ATTACH;FMTTYPE=image/jpeg:https://renoforjesus.com/wp-content/uploads/2023/01/pedro-lima-IkqhfoJjwSI-unsplash-scaled.jpg
END:VEVENT
BEGIN:VEVENT
DTSTART;TZID=UTC:20281015T180000
DTEND;TZID=UTC:20281015T190000
DTSTAMP:20260421T063036
CREATED:20250316T205020Z
LAST-MODIFIED:20250316T205020Z
UID:10005507-1855245600-1855249200@renoforjesus.com
SUMMARY:Sunday Evening Service
DESCRIPTION:
URL:https://renoforjesus.com/event/sunday-evening-service-2/2028-10-15/
ATTACH;FMTTYPE=image/webp:https://renoforjesus.com/wp-content/uploads/2023/01/666402e-253w.webp
END:VEVENT
BEGIN:VEVENT
DTSTART;TZID=UTC:20281018T190000
DTEND;TZID=UTC:20281018T200000
DTSTAMP:20260421T063036
CREATED:20230115T005001Z
LAST-MODIFIED:20240819T194612Z
UID:10001952-1855508400-1855512000@renoforjesus.com
SUMMARY:Wednesday Service and Children's Church
DESCRIPTION:
URL:https://renoforjesus.com/event/wednesday-service-and-childrens-church/2028-10-18/
ATTACH;FMTTYPE=image/jpeg:https://renoforjesus.com/wp-content/uploads/2023/01/hannah-busing-G-_L3Eqkqmc-unsplash.jpg
END:VEVENT
BEGIN:VEVENT
DTSTART;TZID=UTC:20281020T183000
DTEND;TZID=UTC:20281020T203000
DTSTAMP:20260421T063036
CREATED:20230115T005214Z
LAST-MODIFIED:20240819T194928Z
UID:10002213-1855679400-1855686600@renoforjesus.com
SUMMARY:Youth Cross Fire Ministry
DESCRIPTION:For Teen and Young Adults 13 to 18 years of age.
URL:https://renoforjesus.com/event/youth-cross-fire-ministry/2028-10-20/
ATTACH;FMTTYPE=image/jpeg:https://renoforjesus.com/wp-content/uploads/2023/04/Copy-of-Youth-Conference-Made-with-PosterMyWall-e1724096115653.jpg
END:VEVENT
BEGIN:VEVENT
DTSTART;TZID=UTC:20281022T100000
DTEND;TZID=UTC:20281022T110000
DTSTAMP:20260421T063036
CREATED:20240819T194805Z
LAST-MODIFIED:20250316T204754Z
UID:10004928-1855821600-1855825200@renoforjesus.com
SUMMARY:Sunday School & Adult Bible Study
DESCRIPTION:
URL:https://renoforjesus.com/event/sunday-school-adult-bible-study/2028-10-22/
ATTACH;FMTTYPE=image/jpeg:https://renoforjesus.com/wp-content/uploads/2023/01/sincerely-media-dGxOgeXAXm8-unsplash.jpg
END:VEVENT
BEGIN:VEVENT
DTSTART;TZID=UTC:20281022T110000
DTEND;TZID=UTC:20281022T120000
DTSTAMP:20260421T063036
CREATED:20240819T191222Z
LAST-MODIFIED:20250316T204848Z
UID:10005218-1855825200-1855828800@renoforjesus.com
SUMMARY:Sunday Morning Service
DESCRIPTION:
URL:https://renoforjesus.com/event/sunday-morning-service/2028-10-22/
ATTACH;FMTTYPE=image/jpeg:https://renoforjesus.com/wp-content/uploads/2023/01/pedro-lima-IkqhfoJjwSI-unsplash-scaled.jpg
END:VEVENT
BEGIN:VEVENT
DTSTART;TZID=UTC:20281022T180000
DTEND;TZID=UTC:20281022T190000
DTSTAMP:20260421T063036
CREATED:20250316T205020Z
LAST-MODIFIED:20250316T205020Z
UID:10005508-1855850400-1855854000@renoforjesus.com
SUMMARY:Sunday Evening Service
DESCRIPTION:
URL:https://renoforjesus.com/event/sunday-evening-service-2/2028-10-22/
ATTACH;FMTTYPE=image/webp:https://renoforjesus.com/wp-content/uploads/2023/01/666402e-253w.webp
END:VEVENT
BEGIN:VEVENT
DTSTART;TZID=UTC:20281025T190000
DTEND;TZID=UTC:20281025T200000
DTSTAMP:20260421T063036
CREATED:20230115T005001Z
LAST-MODIFIED:20240819T194612Z
UID:10001953-1856113200-1856116800@renoforjesus.com
SUMMARY:Wednesday Service and Children's Church
DESCRIPTION:
URL:https://renoforjesus.com/event/wednesday-service-and-childrens-church/2028-10-25/
ATTACH;FMTTYPE=image/jpeg:https://renoforjesus.com/wp-content/uploads/2023/01/hannah-busing-G-_L3Eqkqmc-unsplash.jpg
END:VEVENT
BEGIN:VEVENT
DTSTART;TZID=UTC:20281027T183000
DTEND;TZID=UTC:20281027T203000
DTSTAMP:20260421T063036
CREATED:20230115T005214Z
LAST-MODIFIED:20240819T194928Z
UID:10002214-1856284200-1856291400@renoforjesus.com
SUMMARY:Youth Cross Fire Ministry
DESCRIPTION:For Teen and Young Adults 13 to 18 years of age.
URL:https://renoforjesus.com/event/youth-cross-fire-ministry/2028-10-27/
ATTACH;FMTTYPE=image/jpeg:https://renoforjesus.com/wp-content/uploads/2023/04/Copy-of-Youth-Conference-Made-with-PosterMyWall-e1724096115653.jpg
END:VEVENT
BEGIN:VEVENT
DTSTART;TZID=UTC:20281029T100000
DTEND;TZID=UTC:20281029T110000
DTSTAMP:20260421T063036
CREATED:20240819T194805Z
LAST-MODIFIED:20250316T204754Z
UID:10004929-1856426400-1856430000@renoforjesus.com
SUMMARY:Sunday School & Adult Bible Study
DESCRIPTION:
URL:https://renoforjesus.com/event/sunday-school-adult-bible-study/2028-10-29/
ATTACH;FMTTYPE=image/jpeg:https://renoforjesus.com/wp-content/uploads/2023/01/sincerely-media-dGxOgeXAXm8-unsplash.jpg
END:VEVENT
BEGIN:VEVENT
DTSTART;TZID=UTC:20281029T110000
DTEND;TZID=UTC:20281029T120000
DTSTAMP:20260421T063036
CREATED:20240819T191222Z
LAST-MODIFIED:20250316T204848Z
UID:10005219-1856430000-1856433600@renoforjesus.com
SUMMARY:Sunday Morning Service
DESCRIPTION:
URL:https://renoforjesus.com/event/sunday-morning-service/2028-10-29/
ATTACH;FMTTYPE=image/jpeg:https://renoforjesus.com/wp-content/uploads/2023/01/pedro-lima-IkqhfoJjwSI-unsplash-scaled.jpg
END:VEVENT
BEGIN:VEVENT
DTSTART;TZID=UTC:20281029T180000
DTEND;TZID=UTC:20281029T190000
DTSTAMP:20260421T063036
CREATED:20250316T205020Z
LAST-MODIFIED:20250316T205020Z
UID:10005509-1856455200-1856458800@renoforjesus.com
SUMMARY:Sunday Evening Service
DESCRIPTION:
URL:https://renoforjesus.com/event/sunday-evening-service-2/2028-10-29/
ATTACH;FMTTYPE=image/webp:https://renoforjesus.com/wp-content/uploads/2023/01/666402e-253w.webp
END:VEVENT
BEGIN:VEVENT
DTSTART;TZID=UTC:20281101T190000
DTEND;TZID=UTC:20281101T200000
DTSTAMP:20260421T063036
CREATED:20230115T005001Z
LAST-MODIFIED:20240819T194612Z
UID:10001954-1856718000-1856721600@renoforjesus.com
SUMMARY:Wednesday Service and Children's Church
DESCRIPTION:
URL:https://renoforjesus.com/event/wednesday-service-and-childrens-church/2028-11-01/
ATTACH;FMTTYPE=image/jpeg:https://renoforjesus.com/wp-content/uploads/2023/01/hannah-busing-G-_L3Eqkqmc-unsplash.jpg
END:VEVENT
BEGIN:VEVENT
DTSTART;TZID=UTC:20281103T183000
DTEND;TZID=UTC:20281103T203000
DTSTAMP:20260421T063036
CREATED:20230115T005214Z
LAST-MODIFIED:20240819T194928Z
UID:10002215-1856889000-1856896200@renoforjesus.com
SUMMARY:Youth Cross Fire Ministry
DESCRIPTION:For Teen and Young Adults 13 to 18 years of age.
URL:https://renoforjesus.com/event/youth-cross-fire-ministry/2028-11-03/
ATTACH;FMTTYPE=image/jpeg:https://renoforjesus.com/wp-content/uploads/2023/04/Copy-of-Youth-Conference-Made-with-PosterMyWall-e1724096115653.jpg
END:VEVENT
BEGIN:VEVENT
DTSTART;TZID=UTC:20281105T100000
DTEND;TZID=UTC:20281105T110000
DTSTAMP:20260421T063036
CREATED:20240819T194805Z
LAST-MODIFIED:20250316T204754Z
UID:10004930-1857031200-1857034800@renoforjesus.com
SUMMARY:Sunday School & Adult Bible Study
DESCRIPTION:
URL:https://renoforjesus.com/event/sunday-school-adult-bible-study/2028-11-05/
ATTACH;FMTTYPE=image/jpeg:https://renoforjesus.com/wp-content/uploads/2023/01/sincerely-media-dGxOgeXAXm8-unsplash.jpg
END:VEVENT
BEGIN:VEVENT
DTSTART;TZID=UTC:20281105T110000
DTEND;TZID=UTC:20281105T120000
DTSTAMP:20260421T063036
CREATED:20240819T191222Z
LAST-MODIFIED:20250316T204848Z
UID:10005220-1857034800-1857038400@renoforjesus.com
SUMMARY:Sunday Morning Service
DESCRIPTION:
URL:https://renoforjesus.com/event/sunday-morning-service/2028-11-05/
ATTACH;FMTTYPE=image/jpeg:https://renoforjesus.com/wp-content/uploads/2023/01/pedro-lima-IkqhfoJjwSI-unsplash-scaled.jpg
END:VEVENT
BEGIN:VEVENT
DTSTART;TZID=UTC:20281105T180000
DTEND;TZID=UTC:20281105T190000
DTSTAMP:20260421T063036
CREATED:20250316T205020Z
LAST-MODIFIED:20250316T205020Z
UID:10005510-1857060000-1857063600@renoforjesus.com
SUMMARY:Sunday Evening Service
DESCRIPTION:
URL:https://renoforjesus.com/event/sunday-evening-service-2/2028-11-05/
ATTACH;FMTTYPE=image/webp:https://renoforjesus.com/wp-content/uploads/2023/01/666402e-253w.webp
END:VEVENT
BEGIN:VEVENT
DTSTART;TZID=UTC:20281108T190000
DTEND;TZID=UTC:20281108T200000
DTSTAMP:20260421T063036
CREATED:20230115T005001Z
LAST-MODIFIED:20240819T194612Z
UID:10001955-1857322800-1857326400@renoforjesus.com
SUMMARY:Wednesday Service and Children's Church
DESCRIPTION:
URL:https://renoforjesus.com/event/wednesday-service-and-childrens-church/2028-11-08/
ATTACH;FMTTYPE=image/jpeg:https://renoforjesus.com/wp-content/uploads/2023/01/hannah-busing-G-_L3Eqkqmc-unsplash.jpg
END:VEVENT
BEGIN:VEVENT
DTSTART;TZID=UTC:20281110T183000
DTEND;TZID=UTC:20281110T203000
DTSTAMP:20260421T063036
CREATED:20230115T005214Z
LAST-MODIFIED:20240819T194928Z
UID:10002216-1857493800-1857501000@renoforjesus.com
SUMMARY:Youth Cross Fire Ministry
DESCRIPTION:For Teen and Young Adults 13 to 18 years of age.
URL:https://renoforjesus.com/event/youth-cross-fire-ministry/2028-11-10/
ATTACH;FMTTYPE=image/jpeg:https://renoforjesus.com/wp-content/uploads/2023/04/Copy-of-Youth-Conference-Made-with-PosterMyWall-e1724096115653.jpg
END:VEVENT
BEGIN:VEVENT
DTSTART;TZID=UTC:20281112T100000
DTEND;TZID=UTC:20281112T110000
DTSTAMP:20260421T063036
CREATED:20240819T194805Z
LAST-MODIFIED:20250316T204754Z
UID:10004931-1857636000-1857639600@renoforjesus.com
SUMMARY:Sunday School & Adult Bible Study
DESCRIPTION:
URL:https://renoforjesus.com/event/sunday-school-adult-bible-study/2028-11-12/
ATTACH;FMTTYPE=image/jpeg:https://renoforjesus.com/wp-content/uploads/2023/01/sincerely-media-dGxOgeXAXm8-unsplash.jpg
END:VEVENT
BEGIN:VEVENT
DTSTART;TZID=UTC:20281112T110000
DTEND;TZID=UTC:20281112T120000
DTSTAMP:20260421T063036
CREATED:20240819T191222Z
LAST-MODIFIED:20250316T204848Z
UID:10005221-1857639600-1857643200@renoforjesus.com
SUMMARY:Sunday Morning Service
DESCRIPTION:
URL:https://renoforjesus.com/event/sunday-morning-service/2028-11-12/
ATTACH;FMTTYPE=image/jpeg:https://renoforjesus.com/wp-content/uploads/2023/01/pedro-lima-IkqhfoJjwSI-unsplash-scaled.jpg
END:VEVENT
BEGIN:VEVENT
DTSTART;TZID=UTC:20281112T180000
DTEND;TZID=UTC:20281112T190000
DTSTAMP:20260421T063036
CREATED:20250316T205020Z
LAST-MODIFIED:20250316T205020Z
UID:10005511-1857664800-1857668400@renoforjesus.com
SUMMARY:Sunday Evening Service
DESCRIPTION:
URL:https://renoforjesus.com/event/sunday-evening-service-2/2028-11-12/
ATTACH;FMTTYPE=image/webp:https://renoforjesus.com/wp-content/uploads/2023/01/666402e-253w.webp
END:VEVENT
END:VCALENDAR