BEGIN:VCALENDAR
VERSION:2.0
PRODID:-//Christian Fellowship Of Reno - ECPv6.15.20//NONSGML v1.0//EN
CALSCALE:GREGORIAN
METHOD:PUBLISH
X-WR-CALNAME:Christian Fellowship Of Reno
X-ORIGINAL-URL:https://renoforjesus.com
X-WR-CALDESC:Events for Christian Fellowship Of Reno
REFRESH-INTERVAL;VALUE=DURATION:PT1H
X-Robots-Tag:noindex
X-PUBLISHED-TTL:PT1H
BEGIN:VTIMEZONE
TZID:UTC
BEGIN:STANDARD
TZOFFSETFROM:+0000
TZOFFSETTO:+0000
TZNAME:UTC
DTSTART:20270101T000000
END:STANDARD
END:VTIMEZONE
BEGIN:VEVENT
DTSTART;TZID=UTC:20280906T190000
DTEND;TZID=UTC:20280906T200000
DTSTAMP:20260421T030026
CREATED:20230115T005001Z
LAST-MODIFIED:20240819T194612Z
UID:10001946-1851879600-1851883200@renoforjesus.com
SUMMARY:Wednesday Service and Children's Church
DESCRIPTION:
URL:https://renoforjesus.com/event/wednesday-service-and-childrens-church/2028-09-06/
ATTACH;FMTTYPE=image/jpeg:https://renoforjesus.com/wp-content/uploads/2023/01/hannah-busing-G-_L3Eqkqmc-unsplash.jpg
END:VEVENT
BEGIN:VEVENT
DTSTART;TZID=UTC:20280908T183000
DTEND;TZID=UTC:20280908T203000
DTSTAMP:20260421T030026
CREATED:20230115T005214Z
LAST-MODIFIED:20240819T194928Z
UID:10002207-1852050600-1852057800@renoforjesus.com
SUMMARY:Youth Cross Fire Ministry
DESCRIPTION:For Teen and Young Adults 13 to 18 years of age.
URL:https://renoforjesus.com/event/youth-cross-fire-ministry/2028-09-08/
ATTACH;FMTTYPE=image/jpeg:https://renoforjesus.com/wp-content/uploads/2023/04/Copy-of-Youth-Conference-Made-with-PosterMyWall-e1724096115653.jpg
END:VEVENT
BEGIN:VEVENT
DTSTART;TZID=UTC:20280910T100000
DTEND;TZID=UTC:20280910T110000
DTSTAMP:20260421T030026
CREATED:20240819T194805Z
LAST-MODIFIED:20250316T204754Z
UID:10004922-1852192800-1852196400@renoforjesus.com
SUMMARY:Sunday School & Adult Bible Study
DESCRIPTION:
URL:https://renoforjesus.com/event/sunday-school-adult-bible-study/2028-09-10/
ATTACH;FMTTYPE=image/jpeg:https://renoforjesus.com/wp-content/uploads/2023/01/sincerely-media-dGxOgeXAXm8-unsplash.jpg
END:VEVENT
BEGIN:VEVENT
DTSTART;TZID=UTC:20280910T110000
DTEND;TZID=UTC:20280910T120000
DTSTAMP:20260421T030026
CREATED:20240819T191222Z
LAST-MODIFIED:20250316T204848Z
UID:10005212-1852196400-1852200000@renoforjesus.com
SUMMARY:Sunday Morning Service
DESCRIPTION:
URL:https://renoforjesus.com/event/sunday-morning-service/2028-09-10/
ATTACH;FMTTYPE=image/jpeg:https://renoforjesus.com/wp-content/uploads/2023/01/pedro-lima-IkqhfoJjwSI-unsplash-scaled.jpg
END:VEVENT
BEGIN:VEVENT
DTSTART;TZID=UTC:20280910T180000
DTEND;TZID=UTC:20280910T190000
DTSTAMP:20260421T030026
CREATED:20250316T205020Z
LAST-MODIFIED:20250316T205020Z
UID:10005502-1852221600-1852225200@renoforjesus.com
SUMMARY:Sunday Evening Service
DESCRIPTION:
URL:https://renoforjesus.com/event/sunday-evening-service-2/2028-09-10/
ATTACH;FMTTYPE=image/webp:https://renoforjesus.com/wp-content/uploads/2023/01/666402e-253w.webp
END:VEVENT
BEGIN:VEVENT
DTSTART;TZID=UTC:20280913T190000
DTEND;TZID=UTC:20280913T200000
DTSTAMP:20260421T030026
CREATED:20230115T005001Z
LAST-MODIFIED:20240819T194612Z
UID:10001947-1852484400-1852488000@renoforjesus.com
SUMMARY:Wednesday Service and Children's Church
DESCRIPTION:
URL:https://renoforjesus.com/event/wednesday-service-and-childrens-church/2028-09-13/
ATTACH;FMTTYPE=image/jpeg:https://renoforjesus.com/wp-content/uploads/2023/01/hannah-busing-G-_L3Eqkqmc-unsplash.jpg
END:VEVENT
BEGIN:VEVENT
DTSTART;TZID=UTC:20280915T183000
DTEND;TZID=UTC:20280915T203000
DTSTAMP:20260421T030026
CREATED:20230115T005214Z
LAST-MODIFIED:20240819T194928Z
UID:10002208-1852655400-1852662600@renoforjesus.com
SUMMARY:Youth Cross Fire Ministry
DESCRIPTION:For Teen and Young Adults 13 to 18 years of age.
URL:https://renoforjesus.com/event/youth-cross-fire-ministry/2028-09-15/
ATTACH;FMTTYPE=image/jpeg:https://renoforjesus.com/wp-content/uploads/2023/04/Copy-of-Youth-Conference-Made-with-PosterMyWall-e1724096115653.jpg
END:VEVENT
BEGIN:VEVENT
DTSTART;TZID=UTC:20280917T100000
DTEND;TZID=UTC:20280917T110000
DTSTAMP:20260421T030026
CREATED:20240819T194805Z
LAST-MODIFIED:20250316T204754Z
UID:10004923-1852797600-1852801200@renoforjesus.com
SUMMARY:Sunday School & Adult Bible Study
DESCRIPTION:
URL:https://renoforjesus.com/event/sunday-school-adult-bible-study/2028-09-17/
ATTACH;FMTTYPE=image/jpeg:https://renoforjesus.com/wp-content/uploads/2023/01/sincerely-media-dGxOgeXAXm8-unsplash.jpg
END:VEVENT
BEGIN:VEVENT
DTSTART;TZID=UTC:20280917T110000
DTEND;TZID=UTC:20280917T120000
DTSTAMP:20260421T030026
CREATED:20240819T191222Z
LAST-MODIFIED:20250316T204848Z
UID:10005213-1852801200-1852804800@renoforjesus.com
SUMMARY:Sunday Morning Service
DESCRIPTION:
URL:https://renoforjesus.com/event/sunday-morning-service/2028-09-17/
ATTACH;FMTTYPE=image/jpeg:https://renoforjesus.com/wp-content/uploads/2023/01/pedro-lima-IkqhfoJjwSI-unsplash-scaled.jpg
END:VEVENT
BEGIN:VEVENT
DTSTART;TZID=UTC:20280917T180000
DTEND;TZID=UTC:20280917T190000
DTSTAMP:20260421T030026
CREATED:20250316T205020Z
LAST-MODIFIED:20250316T205020Z
UID:10005503-1852826400-1852830000@renoforjesus.com
SUMMARY:Sunday Evening Service
DESCRIPTION:
URL:https://renoforjesus.com/event/sunday-evening-service-2/2028-09-17/
ATTACH;FMTTYPE=image/webp:https://renoforjesus.com/wp-content/uploads/2023/01/666402e-253w.webp
END:VEVENT
BEGIN:VEVENT
DTSTART;TZID=UTC:20280920T190000
DTEND;TZID=UTC:20280920T200000
DTSTAMP:20260421T030026
CREATED:20230115T005001Z
LAST-MODIFIED:20240819T194612Z
UID:10001948-1853089200-1853092800@renoforjesus.com
SUMMARY:Wednesday Service and Children's Church
DESCRIPTION:
URL:https://renoforjesus.com/event/wednesday-service-and-childrens-church/2028-09-20/
ATTACH;FMTTYPE=image/jpeg:https://renoforjesus.com/wp-content/uploads/2023/01/hannah-busing-G-_L3Eqkqmc-unsplash.jpg
END:VEVENT
BEGIN:VEVENT
DTSTART;TZID=UTC:20280922T183000
DTEND;TZID=UTC:20280922T203000
DTSTAMP:20260421T030026
CREATED:20230115T005214Z
LAST-MODIFIED:20240819T194928Z
UID:10002209-1853260200-1853267400@renoforjesus.com
SUMMARY:Youth Cross Fire Ministry
DESCRIPTION:For Teen and Young Adults 13 to 18 years of age.
URL:https://renoforjesus.com/event/youth-cross-fire-ministry/2028-09-22/
ATTACH;FMTTYPE=image/jpeg:https://renoforjesus.com/wp-content/uploads/2023/04/Copy-of-Youth-Conference-Made-with-PosterMyWall-e1724096115653.jpg
END:VEVENT
BEGIN:VEVENT
DTSTART;TZID=UTC:20280924T100000
DTEND;TZID=UTC:20280924T110000
DTSTAMP:20260421T030026
CREATED:20240819T194805Z
LAST-MODIFIED:20250316T204754Z
UID:10004924-1853402400-1853406000@renoforjesus.com
SUMMARY:Sunday School & Adult Bible Study
DESCRIPTION:
URL:https://renoforjesus.com/event/sunday-school-adult-bible-study/2028-09-24/
ATTACH;FMTTYPE=image/jpeg:https://renoforjesus.com/wp-content/uploads/2023/01/sincerely-media-dGxOgeXAXm8-unsplash.jpg
END:VEVENT
BEGIN:VEVENT
DTSTART;TZID=UTC:20280924T110000
DTEND;TZID=UTC:20280924T120000
DTSTAMP:20260421T030026
CREATED:20240819T191222Z
LAST-MODIFIED:20250316T204848Z
UID:10005214-1853406000-1853409600@renoforjesus.com
SUMMARY:Sunday Morning Service
DESCRIPTION:
URL:https://renoforjesus.com/event/sunday-morning-service/2028-09-24/
ATTACH;FMTTYPE=image/jpeg:https://renoforjesus.com/wp-content/uploads/2023/01/pedro-lima-IkqhfoJjwSI-unsplash-scaled.jpg
END:VEVENT
BEGIN:VEVENT
DTSTART;TZID=UTC:20280924T180000
DTEND;TZID=UTC:20280924T190000
DTSTAMP:20260421T030026
CREATED:20250316T205020Z
LAST-MODIFIED:20250316T205020Z
UID:10005504-1853431200-1853434800@renoforjesus.com
SUMMARY:Sunday Evening Service
DESCRIPTION:
URL:https://renoforjesus.com/event/sunday-evening-service-2/2028-09-24/
ATTACH;FMTTYPE=image/webp:https://renoforjesus.com/wp-content/uploads/2023/01/666402e-253w.webp
END:VEVENT
BEGIN:VEVENT
DTSTART;TZID=UTC:20280927T190000
DTEND;TZID=UTC:20280927T200000
DTSTAMP:20260421T030026
CREATED:20230115T005001Z
LAST-MODIFIED:20240819T194612Z
UID:10001949-1853694000-1853697600@renoforjesus.com
SUMMARY:Wednesday Service and Children's Church
DESCRIPTION:
URL:https://renoforjesus.com/event/wednesday-service-and-childrens-church/2028-09-27/
ATTACH;FMTTYPE=image/jpeg:https://renoforjesus.com/wp-content/uploads/2023/01/hannah-busing-G-_L3Eqkqmc-unsplash.jpg
END:VEVENT
BEGIN:VEVENT
DTSTART;TZID=UTC:20280929T183000
DTEND;TZID=UTC:20280929T203000
DTSTAMP:20260421T030026
CREATED:20230115T005214Z
LAST-MODIFIED:20240819T194928Z
UID:10002210-1853865000-1853872200@renoforjesus.com
SUMMARY:Youth Cross Fire Ministry
DESCRIPTION:For Teen and Young Adults 13 to 18 years of age.
URL:https://renoforjesus.com/event/youth-cross-fire-ministry/2028-09-29/
ATTACH;FMTTYPE=image/jpeg:https://renoforjesus.com/wp-content/uploads/2023/04/Copy-of-Youth-Conference-Made-with-PosterMyWall-e1724096115653.jpg
END:VEVENT
BEGIN:VEVENT
DTSTART;TZID=UTC:20281001T100000
DTEND;TZID=UTC:20281001T110000
DTSTAMP:20260421T030026
CREATED:20240819T194805Z
LAST-MODIFIED:20250316T204754Z
UID:10004925-1854007200-1854010800@renoforjesus.com
SUMMARY:Sunday School & Adult Bible Study
DESCRIPTION:
URL:https://renoforjesus.com/event/sunday-school-adult-bible-study/2028-10-01/
ATTACH;FMTTYPE=image/jpeg:https://renoforjesus.com/wp-content/uploads/2023/01/sincerely-media-dGxOgeXAXm8-unsplash.jpg
END:VEVENT
BEGIN:VEVENT
DTSTART;TZID=UTC:20281001T110000
DTEND;TZID=UTC:20281001T120000
DTSTAMP:20260421T030026
CREATED:20240819T191222Z
LAST-MODIFIED:20250316T204848Z
UID:10005215-1854010800-1854014400@renoforjesus.com
SUMMARY:Sunday Morning Service
DESCRIPTION:
URL:https://renoforjesus.com/event/sunday-morning-service/2028-10-01/
ATTACH;FMTTYPE=image/jpeg:https://renoforjesus.com/wp-content/uploads/2023/01/pedro-lima-IkqhfoJjwSI-unsplash-scaled.jpg
END:VEVENT
BEGIN:VEVENT
DTSTART;TZID=UTC:20281001T180000
DTEND;TZID=UTC:20281001T190000
DTSTAMP:20260421T030026
CREATED:20250316T205020Z
LAST-MODIFIED:20250316T205020Z
UID:10005505-1854036000-1854039600@renoforjesus.com
SUMMARY:Sunday Evening Service
DESCRIPTION:
URL:https://renoforjesus.com/event/sunday-evening-service-2/2028-10-01/
ATTACH;FMTTYPE=image/webp:https://renoforjesus.com/wp-content/uploads/2023/01/666402e-253w.webp
END:VEVENT
BEGIN:VEVENT
DTSTART;TZID=UTC:20281004T190000
DTEND;TZID=UTC:20281004T200000
DTSTAMP:20260421T030026
CREATED:20230115T005001Z
LAST-MODIFIED:20240819T194612Z
UID:10001950-1854298800-1854302400@renoforjesus.com
SUMMARY:Wednesday Service and Children's Church
DESCRIPTION:
URL:https://renoforjesus.com/event/wednesday-service-and-childrens-church/2028-10-04/
ATTACH;FMTTYPE=image/jpeg:https://renoforjesus.com/wp-content/uploads/2023/01/hannah-busing-G-_L3Eqkqmc-unsplash.jpg
END:VEVENT
BEGIN:VEVENT
DTSTART;TZID=UTC:20281006T183000
DTEND;TZID=UTC:20281006T203000
DTSTAMP:20260421T030026
CREATED:20230115T005214Z
LAST-MODIFIED:20240819T194928Z
UID:10002211-1854469800-1854477000@renoforjesus.com
SUMMARY:Youth Cross Fire Ministry
DESCRIPTION:For Teen and Young Adults 13 to 18 years of age.
URL:https://renoforjesus.com/event/youth-cross-fire-ministry/2028-10-06/
ATTACH;FMTTYPE=image/jpeg:https://renoforjesus.com/wp-content/uploads/2023/04/Copy-of-Youth-Conference-Made-with-PosterMyWall-e1724096115653.jpg
END:VEVENT
BEGIN:VEVENT
DTSTART;TZID=UTC:20281008T100000
DTEND;TZID=UTC:20281008T110000
DTSTAMP:20260421T030026
CREATED:20240819T194805Z
LAST-MODIFIED:20250316T204754Z
UID:10004926-1854612000-1854615600@renoforjesus.com
SUMMARY:Sunday School & Adult Bible Study
DESCRIPTION:
URL:https://renoforjesus.com/event/sunday-school-adult-bible-study/2028-10-08/
ATTACH;FMTTYPE=image/jpeg:https://renoforjesus.com/wp-content/uploads/2023/01/sincerely-media-dGxOgeXAXm8-unsplash.jpg
END:VEVENT
BEGIN:VEVENT
DTSTART;TZID=UTC:20281008T110000
DTEND;TZID=UTC:20281008T120000
DTSTAMP:20260421T030026
CREATED:20240819T191222Z
LAST-MODIFIED:20250316T204848Z
UID:10005216-1854615600-1854619200@renoforjesus.com
SUMMARY:Sunday Morning Service
DESCRIPTION:
URL:https://renoforjesus.com/event/sunday-morning-service/2028-10-08/
ATTACH;FMTTYPE=image/jpeg:https://renoforjesus.com/wp-content/uploads/2023/01/pedro-lima-IkqhfoJjwSI-unsplash-scaled.jpg
END:VEVENT
BEGIN:VEVENT
DTSTART;TZID=UTC:20281008T180000
DTEND;TZID=UTC:20281008T190000
DTSTAMP:20260421T030026
CREATED:20250316T205020Z
LAST-MODIFIED:20250316T205020Z
UID:10005506-1854640800-1854644400@renoforjesus.com
SUMMARY:Sunday Evening Service
DESCRIPTION:
URL:https://renoforjesus.com/event/sunday-evening-service-2/2028-10-08/
ATTACH;FMTTYPE=image/webp:https://renoforjesus.com/wp-content/uploads/2023/01/666402e-253w.webp
END:VEVENT
BEGIN:VEVENT
DTSTART;TZID=UTC:20281011T190000
DTEND;TZID=UTC:20281011T200000
DTSTAMP:20260421T030026
CREATED:20230115T005001Z
LAST-MODIFIED:20240819T194612Z
UID:10001951-1854903600-1854907200@renoforjesus.com
SUMMARY:Wednesday Service and Children's Church
DESCRIPTION:
URL:https://renoforjesus.com/event/wednesday-service-and-childrens-church/2028-10-11/
ATTACH;FMTTYPE=image/jpeg:https://renoforjesus.com/wp-content/uploads/2023/01/hannah-busing-G-_L3Eqkqmc-unsplash.jpg
END:VEVENT
BEGIN:VEVENT
DTSTART;TZID=UTC:20281013T183000
DTEND;TZID=UTC:20281013T203000
DTSTAMP:20260421T030026
CREATED:20230115T005214Z
LAST-MODIFIED:20240819T194928Z
UID:10002212-1855074600-1855081800@renoforjesus.com
SUMMARY:Youth Cross Fire Ministry
DESCRIPTION:For Teen and Young Adults 13 to 18 years of age.
URL:https://renoforjesus.com/event/youth-cross-fire-ministry/2028-10-13/
ATTACH;FMTTYPE=image/jpeg:https://renoforjesus.com/wp-content/uploads/2023/04/Copy-of-Youth-Conference-Made-with-PosterMyWall-e1724096115653.jpg
END:VEVENT
BEGIN:VEVENT
DTSTART;TZID=UTC:20281015T100000
DTEND;TZID=UTC:20281015T110000
DTSTAMP:20260421T030026
CREATED:20240819T194805Z
LAST-MODIFIED:20250316T204754Z
UID:10004927-1855216800-1855220400@renoforjesus.com
SUMMARY:Sunday School & Adult Bible Study
DESCRIPTION:
URL:https://renoforjesus.com/event/sunday-school-adult-bible-study/2028-10-15/
ATTACH;FMTTYPE=image/jpeg:https://renoforjesus.com/wp-content/uploads/2023/01/sincerely-media-dGxOgeXAXm8-unsplash.jpg
END:VEVENT
BEGIN:VEVENT
DTSTART;TZID=UTC:20281015T110000
DTEND;TZID=UTC:20281015T120000
DTSTAMP:20260421T030026
CREATED:20240819T191222Z
LAST-MODIFIED:20250316T204848Z
UID:10005217-1855220400-1855224000@renoforjesus.com
SUMMARY:Sunday Morning Service
DESCRIPTION:
URL:https://renoforjesus.com/event/sunday-morning-service/2028-10-15/
ATTACH;FMTTYPE=image/jpeg:https://renoforjesus.com/wp-content/uploads/2023/01/pedro-lima-IkqhfoJjwSI-unsplash-scaled.jpg
END:VEVENT
BEGIN:VEVENT
DTSTART;TZID=UTC:20281015T180000
DTEND;TZID=UTC:20281015T190000
DTSTAMP:20260421T030026
CREATED:20250316T205020Z
LAST-MODIFIED:20250316T205020Z
UID:10005507-1855245600-1855249200@renoforjesus.com
SUMMARY:Sunday Evening Service
DESCRIPTION:
URL:https://renoforjesus.com/event/sunday-evening-service-2/2028-10-15/
ATTACH;FMTTYPE=image/webp:https://renoforjesus.com/wp-content/uploads/2023/01/666402e-253w.webp
END:VEVENT
END:VCALENDAR