BEGIN:VCALENDAR
VERSION:2.0
PRODID:-//Christian Fellowship Of Reno - ECPv6.15.20//NONSGML v1.0//EN
CALSCALE:GREGORIAN
METHOD:PUBLISH
X-ORIGINAL-URL:https://renoforjesus.com
X-WR-CALDESC:Events for Christian Fellowship Of Reno
REFRESH-INTERVAL;VALUE=DURATION:PT1H
X-Robots-Tag:noindex
X-PUBLISHED-TTL:PT1H
BEGIN:VTIMEZONE
TZID:UTC
BEGIN:STANDARD
TZOFFSETFROM:+0000
TZOFFSETTO:+0000
TZNAME:UTC
DTSTART:20260101T000000
END:STANDARD
END:VTIMEZONE
BEGIN:VEVENT
DTSTART;TZID=UTC:20270704T100000
DTEND;TZID=UTC:20270704T110000
DTSTAMP:20260422T002853
CREATED:20240819T194805Z
LAST-MODIFIED:20250316T204754Z
UID:10004860-1814695200-1814698800@renoforjesus.com
SUMMARY:Sunday School & Adult Bible Study
DESCRIPTION:
URL:https://renoforjesus.com/event/sunday-school-adult-bible-study/2027-07-04/
ATTACH;FMTTYPE=image/jpeg:https://renoforjesus.com/wp-content/uploads/2023/01/sincerely-media-dGxOgeXAXm8-unsplash.jpg
END:VEVENT
BEGIN:VEVENT
DTSTART;TZID=UTC:20270704T110000
DTEND;TZID=UTC:20270704T120000
DTSTAMP:20260422T002853
CREATED:20240819T191222Z
LAST-MODIFIED:20250316T204848Z
UID:10005150-1814698800-1814702400@renoforjesus.com
SUMMARY:Sunday Morning Service
DESCRIPTION:
URL:https://renoforjesus.com/event/sunday-morning-service/2027-07-04/
ATTACH;FMTTYPE=image/jpeg:https://renoforjesus.com/wp-content/uploads/2023/01/pedro-lima-IkqhfoJjwSI-unsplash-scaled.jpg
END:VEVENT
BEGIN:VEVENT
DTSTART;TZID=UTC:20270704T180000
DTEND;TZID=UTC:20270704T190000
DTSTAMP:20260422T002853
CREATED:20250316T205020Z
LAST-MODIFIED:20250316T205020Z
UID:10005440-1814724000-1814727600@renoforjesus.com
SUMMARY:Sunday Evening Service
DESCRIPTION:
URL:https://renoforjesus.com/event/sunday-evening-service-2/2027-07-04/
ATTACH;FMTTYPE=image/webp:https://renoforjesus.com/wp-content/uploads/2023/01/666402e-253w.webp
END:VEVENT
BEGIN:VEVENT
DTSTART;TZID=UTC:20270707T190000
DTEND;TZID=UTC:20270707T200000
DTSTAMP:20260422T002853
CREATED:20230115T005001Z
LAST-MODIFIED:20240819T194612Z
UID:10001885-1814986800-1814990400@renoforjesus.com
SUMMARY:Wednesday Service and Children's Church
DESCRIPTION:
URL:https://renoforjesus.com/event/wednesday-service-and-childrens-church/2027-07-07/
ATTACH;FMTTYPE=image/jpeg:https://renoforjesus.com/wp-content/uploads/2023/01/hannah-busing-G-_L3Eqkqmc-unsplash.jpg
END:VEVENT
BEGIN:VEVENT
DTSTART;TZID=UTC:20270709T183000
DTEND;TZID=UTC:20270709T203000
DTSTAMP:20260422T002853
CREATED:20230115T005214Z
LAST-MODIFIED:20240819T194928Z
UID:10002146-1815157800-1815165000@renoforjesus.com
SUMMARY:Youth Cross Fire Ministry
DESCRIPTION:For Teen and Young Adults 13 to 18 years of age.
URL:https://renoforjesus.com/event/youth-cross-fire-ministry/2027-07-09/
ATTACH;FMTTYPE=image/jpeg:https://renoforjesus.com/wp-content/uploads/2023/04/Copy-of-Youth-Conference-Made-with-PosterMyWall-e1724096115653.jpg
END:VEVENT
BEGIN:VEVENT
DTSTART;TZID=UTC:20270711T100000
DTEND;TZID=UTC:20270711T110000
DTSTAMP:20260422T002853
CREATED:20240819T194805Z
LAST-MODIFIED:20250316T204754Z
UID:10004861-1815300000-1815303600@renoforjesus.com
SUMMARY:Sunday School & Adult Bible Study
DESCRIPTION:
URL:https://renoforjesus.com/event/sunday-school-adult-bible-study/2027-07-11/
ATTACH;FMTTYPE=image/jpeg:https://renoforjesus.com/wp-content/uploads/2023/01/sincerely-media-dGxOgeXAXm8-unsplash.jpg
END:VEVENT
BEGIN:VEVENT
DTSTART;TZID=UTC:20270711T110000
DTEND;TZID=UTC:20270711T120000
DTSTAMP:20260422T002853
CREATED:20240819T191222Z
LAST-MODIFIED:20250316T204848Z
UID:10005151-1815303600-1815307200@renoforjesus.com
SUMMARY:Sunday Morning Service
DESCRIPTION:
URL:https://renoforjesus.com/event/sunday-morning-service/2027-07-11/
ATTACH;FMTTYPE=image/jpeg:https://renoforjesus.com/wp-content/uploads/2023/01/pedro-lima-IkqhfoJjwSI-unsplash-scaled.jpg
END:VEVENT
BEGIN:VEVENT
DTSTART;TZID=UTC:20270711T180000
DTEND;TZID=UTC:20270711T190000
DTSTAMP:20260422T002853
CREATED:20250316T205020Z
LAST-MODIFIED:20250316T205020Z
UID:10005441-1815328800-1815332400@renoforjesus.com
SUMMARY:Sunday Evening Service
DESCRIPTION:
URL:https://renoforjesus.com/event/sunday-evening-service-2/2027-07-11/
ATTACH;FMTTYPE=image/webp:https://renoforjesus.com/wp-content/uploads/2023/01/666402e-253w.webp
END:VEVENT
BEGIN:VEVENT
DTSTART;TZID=UTC:20270714T190000
DTEND;TZID=UTC:20270714T200000
DTSTAMP:20260422T002853
CREATED:20230115T005001Z
LAST-MODIFIED:20240819T194612Z
UID:10001886-1815591600-1815595200@renoforjesus.com
SUMMARY:Wednesday Service and Children's Church
DESCRIPTION:
URL:https://renoforjesus.com/event/wednesday-service-and-childrens-church/2027-07-14/
ATTACH;FMTTYPE=image/jpeg:https://renoforjesus.com/wp-content/uploads/2023/01/hannah-busing-G-_L3Eqkqmc-unsplash.jpg
END:VEVENT
BEGIN:VEVENT
DTSTART;TZID=UTC:20270716T183000
DTEND;TZID=UTC:20270716T203000
DTSTAMP:20260422T002853
CREATED:20230115T005214Z
LAST-MODIFIED:20240819T194928Z
UID:10002147-1815762600-1815769800@renoforjesus.com
SUMMARY:Youth Cross Fire Ministry
DESCRIPTION:For Teen and Young Adults 13 to 18 years of age.
URL:https://renoforjesus.com/event/youth-cross-fire-ministry/2027-07-16/
ATTACH;FMTTYPE=image/jpeg:https://renoforjesus.com/wp-content/uploads/2023/04/Copy-of-Youth-Conference-Made-with-PosterMyWall-e1724096115653.jpg
END:VEVENT
BEGIN:VEVENT
DTSTART;TZID=UTC:20270718T100000
DTEND;TZID=UTC:20270718T110000
DTSTAMP:20260422T002853
CREATED:20240819T194805Z
LAST-MODIFIED:20250316T204754Z
UID:10004862-1815904800-1815908400@renoforjesus.com
SUMMARY:Sunday School & Adult Bible Study
DESCRIPTION:
URL:https://renoforjesus.com/event/sunday-school-adult-bible-study/2027-07-18/
ATTACH;FMTTYPE=image/jpeg:https://renoforjesus.com/wp-content/uploads/2023/01/sincerely-media-dGxOgeXAXm8-unsplash.jpg
END:VEVENT
BEGIN:VEVENT
DTSTART;TZID=UTC:20270718T110000
DTEND;TZID=UTC:20270718T120000
DTSTAMP:20260422T002853
CREATED:20240819T191222Z
LAST-MODIFIED:20250316T204848Z
UID:10005152-1815908400-1815912000@renoforjesus.com
SUMMARY:Sunday Morning Service
DESCRIPTION:
URL:https://renoforjesus.com/event/sunday-morning-service/2027-07-18/
ATTACH;FMTTYPE=image/jpeg:https://renoforjesus.com/wp-content/uploads/2023/01/pedro-lima-IkqhfoJjwSI-unsplash-scaled.jpg
END:VEVENT
BEGIN:VEVENT
DTSTART;TZID=UTC:20270718T180000
DTEND;TZID=UTC:20270718T190000
DTSTAMP:20260422T002853
CREATED:20250316T205020Z
LAST-MODIFIED:20250316T205020Z
UID:10005442-1815933600-1815937200@renoforjesus.com
SUMMARY:Sunday Evening Service
DESCRIPTION:
URL:https://renoforjesus.com/event/sunday-evening-service-2/2027-07-18/
ATTACH;FMTTYPE=image/webp:https://renoforjesus.com/wp-content/uploads/2023/01/666402e-253w.webp
END:VEVENT
BEGIN:VEVENT
DTSTART;TZID=UTC:20270721T190000
DTEND;TZID=UTC:20270721T200000
DTSTAMP:20260422T002853
CREATED:20230115T005001Z
LAST-MODIFIED:20240819T194612Z
UID:10001887-1816196400-1816200000@renoforjesus.com
SUMMARY:Wednesday Service and Children's Church
DESCRIPTION:
URL:https://renoforjesus.com/event/wednesday-service-and-childrens-church/2027-07-21/
ATTACH;FMTTYPE=image/jpeg:https://renoforjesus.com/wp-content/uploads/2023/01/hannah-busing-G-_L3Eqkqmc-unsplash.jpg
END:VEVENT
BEGIN:VEVENT
DTSTART;TZID=UTC:20270723T183000
DTEND;TZID=UTC:20270723T203000
DTSTAMP:20260422T002853
CREATED:20230115T005214Z
LAST-MODIFIED:20240819T194928Z
UID:10002148-1816367400-1816374600@renoforjesus.com
SUMMARY:Youth Cross Fire Ministry
DESCRIPTION:For Teen and Young Adults 13 to 18 years of age.
URL:https://renoforjesus.com/event/youth-cross-fire-ministry/2027-07-23/
ATTACH;FMTTYPE=image/jpeg:https://renoforjesus.com/wp-content/uploads/2023/04/Copy-of-Youth-Conference-Made-with-PosterMyWall-e1724096115653.jpg
END:VEVENT
BEGIN:VEVENT
DTSTART;TZID=UTC:20270725T100000
DTEND;TZID=UTC:20270725T110000
DTSTAMP:20260422T002853
CREATED:20240819T194805Z
LAST-MODIFIED:20250316T204754Z
UID:10004863-1816509600-1816513200@renoforjesus.com
SUMMARY:Sunday School & Adult Bible Study
DESCRIPTION:
URL:https://renoforjesus.com/event/sunday-school-adult-bible-study/2027-07-25/
ATTACH;FMTTYPE=image/jpeg:https://renoforjesus.com/wp-content/uploads/2023/01/sincerely-media-dGxOgeXAXm8-unsplash.jpg
END:VEVENT
BEGIN:VEVENT
DTSTART;TZID=UTC:20270725T110000
DTEND;TZID=UTC:20270725T120000
DTSTAMP:20260422T002853
CREATED:20240819T191222Z
LAST-MODIFIED:20250316T204848Z
UID:10005153-1816513200-1816516800@renoforjesus.com
SUMMARY:Sunday Morning Service
DESCRIPTION:
URL:https://renoforjesus.com/event/sunday-morning-service/2027-07-25/
ATTACH;FMTTYPE=image/jpeg:https://renoforjesus.com/wp-content/uploads/2023/01/pedro-lima-IkqhfoJjwSI-unsplash-scaled.jpg
END:VEVENT
BEGIN:VEVENT
DTSTART;TZID=UTC:20270725T180000
DTEND;TZID=UTC:20270725T190000
DTSTAMP:20260422T002853
CREATED:20250316T205020Z
LAST-MODIFIED:20250316T205020Z
UID:10005443-1816538400-1816542000@renoforjesus.com
SUMMARY:Sunday Evening Service
DESCRIPTION:
URL:https://renoforjesus.com/event/sunday-evening-service-2/2027-07-25/
ATTACH;FMTTYPE=image/webp:https://renoforjesus.com/wp-content/uploads/2023/01/666402e-253w.webp
END:VEVENT
BEGIN:VEVENT
DTSTART;TZID=UTC:20270728T190000
DTEND;TZID=UTC:20270728T200000
DTSTAMP:20260422T002853
CREATED:20230115T005001Z
LAST-MODIFIED:20240819T194612Z
UID:10001888-1816801200-1816804800@renoforjesus.com
SUMMARY:Wednesday Service and Children's Church
DESCRIPTION:
URL:https://renoforjesus.com/event/wednesday-service-and-childrens-church/2027-07-28/
ATTACH;FMTTYPE=image/jpeg:https://renoforjesus.com/wp-content/uploads/2023/01/hannah-busing-G-_L3Eqkqmc-unsplash.jpg
END:VEVENT
BEGIN:VEVENT
DTSTART;TZID=UTC:20270730T183000
DTEND;TZID=UTC:20270730T203000
DTSTAMP:20260422T002853
CREATED:20230115T005214Z
LAST-MODIFIED:20240819T194928Z
UID:10002149-1816972200-1816979400@renoforjesus.com
SUMMARY:Youth Cross Fire Ministry
DESCRIPTION:For Teen and Young Adults 13 to 18 years of age.
URL:https://renoforjesus.com/event/youth-cross-fire-ministry/2027-07-30/
ATTACH;FMTTYPE=image/jpeg:https://renoforjesus.com/wp-content/uploads/2023/04/Copy-of-Youth-Conference-Made-with-PosterMyWall-e1724096115653.jpg
END:VEVENT
BEGIN:VEVENT
DTSTART;TZID=UTC:20270801T100000
DTEND;TZID=UTC:20270801T110000
DTSTAMP:20260422T002853
CREATED:20240819T194805Z
LAST-MODIFIED:20250316T204754Z
UID:10004864-1817114400-1817118000@renoforjesus.com
SUMMARY:Sunday School & Adult Bible Study
DESCRIPTION:
URL:https://renoforjesus.com/event/sunday-school-adult-bible-study/2027-08-01/
ATTACH;FMTTYPE=image/jpeg:https://renoforjesus.com/wp-content/uploads/2023/01/sincerely-media-dGxOgeXAXm8-unsplash.jpg
END:VEVENT
BEGIN:VEVENT
DTSTART;TZID=UTC:20270801T110000
DTEND;TZID=UTC:20270801T120000
DTSTAMP:20260422T002853
CREATED:20240819T191222Z
LAST-MODIFIED:20250316T204848Z
UID:10005154-1817118000-1817121600@renoforjesus.com
SUMMARY:Sunday Morning Service
DESCRIPTION:
URL:https://renoforjesus.com/event/sunday-morning-service/2027-08-01/
ATTACH;FMTTYPE=image/jpeg:https://renoforjesus.com/wp-content/uploads/2023/01/pedro-lima-IkqhfoJjwSI-unsplash-scaled.jpg
END:VEVENT
BEGIN:VEVENT
DTSTART;TZID=UTC:20270801T180000
DTEND;TZID=UTC:20270801T190000
DTSTAMP:20260422T002853
CREATED:20250316T205020Z
LAST-MODIFIED:20250316T205020Z
UID:10005444-1817143200-1817146800@renoforjesus.com
SUMMARY:Sunday Evening Service
DESCRIPTION:
URL:https://renoforjesus.com/event/sunday-evening-service-2/2027-08-01/
ATTACH;FMTTYPE=image/webp:https://renoforjesus.com/wp-content/uploads/2023/01/666402e-253w.webp
END:VEVENT
BEGIN:VEVENT
DTSTART;TZID=UTC:20270804T190000
DTEND;TZID=UTC:20270804T200000
DTSTAMP:20260422T002853
CREATED:20230115T005001Z
LAST-MODIFIED:20240819T194612Z
UID:10001889-1817406000-1817409600@renoforjesus.com
SUMMARY:Wednesday Service and Children's Church
DESCRIPTION:
URL:https://renoforjesus.com/event/wednesday-service-and-childrens-church/2027-08-04/
ATTACH;FMTTYPE=image/jpeg:https://renoforjesus.com/wp-content/uploads/2023/01/hannah-busing-G-_L3Eqkqmc-unsplash.jpg
END:VEVENT
BEGIN:VEVENT
DTSTART;TZID=UTC:20270806T183000
DTEND;TZID=UTC:20270806T203000
DTSTAMP:20260422T002853
CREATED:20230115T005214Z
LAST-MODIFIED:20240819T194928Z
UID:10002150-1817577000-1817584200@renoforjesus.com
SUMMARY:Youth Cross Fire Ministry
DESCRIPTION:For Teen and Young Adults 13 to 18 years of age.
URL:https://renoforjesus.com/event/youth-cross-fire-ministry/2027-08-06/
ATTACH;FMTTYPE=image/jpeg:https://renoforjesus.com/wp-content/uploads/2023/04/Copy-of-Youth-Conference-Made-with-PosterMyWall-e1724096115653.jpg
END:VEVENT
BEGIN:VEVENT
DTSTART;TZID=UTC:20270808T100000
DTEND;TZID=UTC:20270808T110000
DTSTAMP:20260422T002853
CREATED:20240819T194805Z
LAST-MODIFIED:20250316T204754Z
UID:10004865-1817719200-1817722800@renoforjesus.com
SUMMARY:Sunday School & Adult Bible Study
DESCRIPTION:
URL:https://renoforjesus.com/event/sunday-school-adult-bible-study/2027-08-08/
ATTACH;FMTTYPE=image/jpeg:https://renoforjesus.com/wp-content/uploads/2023/01/sincerely-media-dGxOgeXAXm8-unsplash.jpg
END:VEVENT
BEGIN:VEVENT
DTSTART;TZID=UTC:20270808T110000
DTEND;TZID=UTC:20270808T120000
DTSTAMP:20260422T002853
CREATED:20240819T191222Z
LAST-MODIFIED:20250316T204848Z
UID:10005155-1817722800-1817726400@renoforjesus.com
SUMMARY:Sunday Morning Service
DESCRIPTION:
URL:https://renoforjesus.com/event/sunday-morning-service/2027-08-08/
ATTACH;FMTTYPE=image/jpeg:https://renoforjesus.com/wp-content/uploads/2023/01/pedro-lima-IkqhfoJjwSI-unsplash-scaled.jpg
END:VEVENT
BEGIN:VEVENT
DTSTART;TZID=UTC:20270808T180000
DTEND;TZID=UTC:20270808T190000
DTSTAMP:20260422T002853
CREATED:20250316T205020Z
LAST-MODIFIED:20250316T205020Z
UID:10005445-1817748000-1817751600@renoforjesus.com
SUMMARY:Sunday Evening Service
DESCRIPTION:
URL:https://renoforjesus.com/event/sunday-evening-service-2/2027-08-08/
ATTACH;FMTTYPE=image/webp:https://renoforjesus.com/wp-content/uploads/2023/01/666402e-253w.webp
END:VEVENT
BEGIN:VEVENT
DTSTART;TZID=UTC:20270811T190000
DTEND;TZID=UTC:20270811T200000
DTSTAMP:20260422T002853
CREATED:20230115T005001Z
LAST-MODIFIED:20240819T194612Z
UID:10001890-1818010800-1818014400@renoforjesus.com
SUMMARY:Wednesday Service and Children's Church
DESCRIPTION:
URL:https://renoforjesus.com/event/wednesday-service-and-childrens-church/2027-08-11/
ATTACH;FMTTYPE=image/jpeg:https://renoforjesus.com/wp-content/uploads/2023/01/hannah-busing-G-_L3Eqkqmc-unsplash.jpg
END:VEVENT
BEGIN:VEVENT
DTSTART;TZID=UTC:20270813T183000
DTEND;TZID=UTC:20270813T203000
DTSTAMP:20260422T002853
CREATED:20230115T005214Z
LAST-MODIFIED:20240819T194928Z
UID:10002151-1818181800-1818189000@renoforjesus.com
SUMMARY:Youth Cross Fire Ministry
DESCRIPTION:For Teen and Young Adults 13 to 18 years of age.
URL:https://renoforjesus.com/event/youth-cross-fire-ministry/2027-08-13/
ATTACH;FMTTYPE=image/jpeg:https://renoforjesus.com/wp-content/uploads/2023/04/Copy-of-Youth-Conference-Made-with-PosterMyWall-e1724096115653.jpg
END:VEVENT
END:VCALENDAR