BEGIN:VCALENDAR
VERSION:2.0
PRODID:-//Christian Fellowship Of Reno - ECPv6.15.20//NONSGML v1.0//EN
CALSCALE:GREGORIAN
METHOD:PUBLISH
X-WR-CALNAME:Christian Fellowship Of Reno
X-ORIGINAL-URL:https://renoforjesus.com
X-WR-CALDESC:Events for Christian Fellowship Of Reno
REFRESH-INTERVAL;VALUE=DURATION:PT1H
X-Robots-Tag:noindex
X-PUBLISHED-TTL:PT1H
BEGIN:VTIMEZONE
TZID:UTC
BEGIN:STANDARD
TZOFFSETFROM:+0000
TZOFFSETTO:+0000
TZNAME:UTC
DTSTART:20260101T000000
END:STANDARD
END:VTIMEZONE
BEGIN:VEVENT
DTSTART;TZID=UTC:20270523T100000
DTEND;TZID=UTC:20270523T110000
DTSTAMP:20260421T191248
CREATED:20240819T194805Z
LAST-MODIFIED:20250316T204754Z
UID:10004854-1811066400-1811070000@renoforjesus.com
SUMMARY:Sunday School & Adult Bible Study
DESCRIPTION:
URL:https://renoforjesus.com/event/sunday-school-adult-bible-study/2027-05-23/
ATTACH;FMTTYPE=image/jpeg:https://renoforjesus.com/wp-content/uploads/2023/01/sincerely-media-dGxOgeXAXm8-unsplash.jpg
END:VEVENT
BEGIN:VEVENT
DTSTART;TZID=UTC:20270523T110000
DTEND;TZID=UTC:20270523T120000
DTSTAMP:20260421T191248
CREATED:20240819T191222Z
LAST-MODIFIED:20250316T204848Z
UID:10005144-1811070000-1811073600@renoforjesus.com
SUMMARY:Sunday Morning Service
DESCRIPTION:
URL:https://renoforjesus.com/event/sunday-morning-service/2027-05-23/
ATTACH;FMTTYPE=image/jpeg:https://renoforjesus.com/wp-content/uploads/2023/01/pedro-lima-IkqhfoJjwSI-unsplash-scaled.jpg
END:VEVENT
BEGIN:VEVENT
DTSTART;TZID=UTC:20270523T180000
DTEND;TZID=UTC:20270523T190000
DTSTAMP:20260421T191248
CREATED:20250316T205020Z
LAST-MODIFIED:20250316T205020Z
UID:10005434-1811095200-1811098800@renoforjesus.com
SUMMARY:Sunday Evening Service
DESCRIPTION:
URL:https://renoforjesus.com/event/sunday-evening-service-2/2027-05-23/
ATTACH;FMTTYPE=image/webp:https://renoforjesus.com/wp-content/uploads/2023/01/666402e-253w.webp
END:VEVENT
BEGIN:VEVENT
DTSTART;TZID=UTC:20270526T190000
DTEND;TZID=UTC:20270526T200000
DTSTAMP:20260421T191248
CREATED:20230115T005001Z
LAST-MODIFIED:20240819T194612Z
UID:10001879-1811358000-1811361600@renoforjesus.com
SUMMARY:Wednesday Service and Children's Church
DESCRIPTION:
URL:https://renoforjesus.com/event/wednesday-service-and-childrens-church/2027-05-26/
ATTACH;FMTTYPE=image/jpeg:https://renoforjesus.com/wp-content/uploads/2023/01/hannah-busing-G-_L3Eqkqmc-unsplash.jpg
END:VEVENT
BEGIN:VEVENT
DTSTART;TZID=UTC:20270528T183000
DTEND;TZID=UTC:20270528T203000
DTSTAMP:20260421T191248
CREATED:20230115T005214Z
LAST-MODIFIED:20240819T194928Z
UID:10002140-1811529000-1811536200@renoforjesus.com
SUMMARY:Youth Cross Fire Ministry
DESCRIPTION:For Teen and Young Adults 13 to 18 years of age.
URL:https://renoforjesus.com/event/youth-cross-fire-ministry/2027-05-28/
ATTACH;FMTTYPE=image/jpeg:https://renoforjesus.com/wp-content/uploads/2023/04/Copy-of-Youth-Conference-Made-with-PosterMyWall-e1724096115653.jpg
END:VEVENT
BEGIN:VEVENT
DTSTART;TZID=UTC:20270530T100000
DTEND;TZID=UTC:20270530T110000
DTSTAMP:20260421T191248
CREATED:20240819T194805Z
LAST-MODIFIED:20250316T204754Z
UID:10004855-1811671200-1811674800@renoforjesus.com
SUMMARY:Sunday School & Adult Bible Study
DESCRIPTION:
URL:https://renoforjesus.com/event/sunday-school-adult-bible-study/2027-05-30/
ATTACH;FMTTYPE=image/jpeg:https://renoforjesus.com/wp-content/uploads/2023/01/sincerely-media-dGxOgeXAXm8-unsplash.jpg
END:VEVENT
BEGIN:VEVENT
DTSTART;TZID=UTC:20270530T110000
DTEND;TZID=UTC:20270530T120000
DTSTAMP:20260421T191248
CREATED:20240819T191222Z
LAST-MODIFIED:20250316T204848Z
UID:10005145-1811674800-1811678400@renoforjesus.com
SUMMARY:Sunday Morning Service
DESCRIPTION:
URL:https://renoforjesus.com/event/sunday-morning-service/2027-05-30/
ATTACH;FMTTYPE=image/jpeg:https://renoforjesus.com/wp-content/uploads/2023/01/pedro-lima-IkqhfoJjwSI-unsplash-scaled.jpg
END:VEVENT
BEGIN:VEVENT
DTSTART;TZID=UTC:20270530T180000
DTEND;TZID=UTC:20270530T190000
DTSTAMP:20260421T191248
CREATED:20250316T205020Z
LAST-MODIFIED:20250316T205020Z
UID:10005435-1811700000-1811703600@renoforjesus.com
SUMMARY:Sunday Evening Service
DESCRIPTION:
URL:https://renoforjesus.com/event/sunday-evening-service-2/2027-05-30/
ATTACH;FMTTYPE=image/webp:https://renoforjesus.com/wp-content/uploads/2023/01/666402e-253w.webp
END:VEVENT
BEGIN:VEVENT
DTSTART;TZID=UTC:20270602T190000
DTEND;TZID=UTC:20270602T200000
DTSTAMP:20260421T191248
CREATED:20230115T005001Z
LAST-MODIFIED:20240819T194612Z
UID:10001880-1811962800-1811966400@renoforjesus.com
SUMMARY:Wednesday Service and Children's Church
DESCRIPTION:
URL:https://renoforjesus.com/event/wednesday-service-and-childrens-church/2027-06-02/
ATTACH;FMTTYPE=image/jpeg:https://renoforjesus.com/wp-content/uploads/2023/01/hannah-busing-G-_L3Eqkqmc-unsplash.jpg
END:VEVENT
BEGIN:VEVENT
DTSTART;TZID=UTC:20270604T183000
DTEND;TZID=UTC:20270604T203000
DTSTAMP:20260421T191248
CREATED:20230115T005214Z
LAST-MODIFIED:20240819T194928Z
UID:10002141-1812133800-1812141000@renoforjesus.com
SUMMARY:Youth Cross Fire Ministry
DESCRIPTION:For Teen and Young Adults 13 to 18 years of age.
URL:https://renoforjesus.com/event/youth-cross-fire-ministry/2027-06-04/
ATTACH;FMTTYPE=image/jpeg:https://renoforjesus.com/wp-content/uploads/2023/04/Copy-of-Youth-Conference-Made-with-PosterMyWall-e1724096115653.jpg
END:VEVENT
BEGIN:VEVENT
DTSTART;TZID=UTC:20270606T100000
DTEND;TZID=UTC:20270606T110000
DTSTAMP:20260421T191248
CREATED:20240819T194805Z
LAST-MODIFIED:20250316T204754Z
UID:10004856-1812276000-1812279600@renoforjesus.com
SUMMARY:Sunday School & Adult Bible Study
DESCRIPTION:
URL:https://renoforjesus.com/event/sunday-school-adult-bible-study/2027-06-06/
ATTACH;FMTTYPE=image/jpeg:https://renoforjesus.com/wp-content/uploads/2023/01/sincerely-media-dGxOgeXAXm8-unsplash.jpg
END:VEVENT
BEGIN:VEVENT
DTSTART;TZID=UTC:20270606T110000
DTEND;TZID=UTC:20270606T120000
DTSTAMP:20260421T191248
CREATED:20240819T191222Z
LAST-MODIFIED:20250316T204848Z
UID:10005146-1812279600-1812283200@renoforjesus.com
SUMMARY:Sunday Morning Service
DESCRIPTION:
URL:https://renoforjesus.com/event/sunday-morning-service/2027-06-06/
ATTACH;FMTTYPE=image/jpeg:https://renoforjesus.com/wp-content/uploads/2023/01/pedro-lima-IkqhfoJjwSI-unsplash-scaled.jpg
END:VEVENT
BEGIN:VEVENT
DTSTART;TZID=UTC:20270606T180000
DTEND;TZID=UTC:20270606T190000
DTSTAMP:20260421T191248
CREATED:20250316T205020Z
LAST-MODIFIED:20250316T205020Z
UID:10005436-1812304800-1812308400@renoforjesus.com
SUMMARY:Sunday Evening Service
DESCRIPTION:
URL:https://renoforjesus.com/event/sunday-evening-service-2/2027-06-06/
ATTACH;FMTTYPE=image/webp:https://renoforjesus.com/wp-content/uploads/2023/01/666402e-253w.webp
END:VEVENT
BEGIN:VEVENT
DTSTART;TZID=UTC:20270609T190000
DTEND;TZID=UTC:20270609T200000
DTSTAMP:20260421T191248
CREATED:20230115T005001Z
LAST-MODIFIED:20240819T194612Z
UID:10001881-1812567600-1812571200@renoforjesus.com
SUMMARY:Wednesday Service and Children's Church
DESCRIPTION:
URL:https://renoforjesus.com/event/wednesday-service-and-childrens-church/2027-06-09/
ATTACH;FMTTYPE=image/jpeg:https://renoforjesus.com/wp-content/uploads/2023/01/hannah-busing-G-_L3Eqkqmc-unsplash.jpg
END:VEVENT
BEGIN:VEVENT
DTSTART;TZID=UTC:20270611T183000
DTEND;TZID=UTC:20270611T203000
DTSTAMP:20260421T191248
CREATED:20230115T005214Z
LAST-MODIFIED:20240819T194928Z
UID:10002142-1812738600-1812745800@renoforjesus.com
SUMMARY:Youth Cross Fire Ministry
DESCRIPTION:For Teen and Young Adults 13 to 18 years of age.
URL:https://renoforjesus.com/event/youth-cross-fire-ministry/2027-06-11/
ATTACH;FMTTYPE=image/jpeg:https://renoforjesus.com/wp-content/uploads/2023/04/Copy-of-Youth-Conference-Made-with-PosterMyWall-e1724096115653.jpg
END:VEVENT
BEGIN:VEVENT
DTSTART;TZID=UTC:20270613T100000
DTEND;TZID=UTC:20270613T110000
DTSTAMP:20260421T191248
CREATED:20240819T194805Z
LAST-MODIFIED:20250316T204754Z
UID:10004857-1812880800-1812884400@renoforjesus.com
SUMMARY:Sunday School & Adult Bible Study
DESCRIPTION:
URL:https://renoforjesus.com/event/sunday-school-adult-bible-study/2027-06-13/
ATTACH;FMTTYPE=image/jpeg:https://renoforjesus.com/wp-content/uploads/2023/01/sincerely-media-dGxOgeXAXm8-unsplash.jpg
END:VEVENT
BEGIN:VEVENT
DTSTART;TZID=UTC:20270613T110000
DTEND;TZID=UTC:20270613T120000
DTSTAMP:20260421T191248
CREATED:20240819T191222Z
LAST-MODIFIED:20250316T204848Z
UID:10005147-1812884400-1812888000@renoforjesus.com
SUMMARY:Sunday Morning Service
DESCRIPTION:
URL:https://renoforjesus.com/event/sunday-morning-service/2027-06-13/
ATTACH;FMTTYPE=image/jpeg:https://renoforjesus.com/wp-content/uploads/2023/01/pedro-lima-IkqhfoJjwSI-unsplash-scaled.jpg
END:VEVENT
BEGIN:VEVENT
DTSTART;TZID=UTC:20270613T180000
DTEND;TZID=UTC:20270613T190000
DTSTAMP:20260421T191248
CREATED:20250316T205020Z
LAST-MODIFIED:20250316T205020Z
UID:10005437-1812909600-1812913200@renoforjesus.com
SUMMARY:Sunday Evening Service
DESCRIPTION:
URL:https://renoforjesus.com/event/sunday-evening-service-2/2027-06-13/
ATTACH;FMTTYPE=image/webp:https://renoforjesus.com/wp-content/uploads/2023/01/666402e-253w.webp
END:VEVENT
BEGIN:VEVENT
DTSTART;TZID=UTC:20270616T190000
DTEND;TZID=UTC:20270616T200000
DTSTAMP:20260421T191248
CREATED:20230115T005001Z
LAST-MODIFIED:20240819T194612Z
UID:10001882-1813172400-1813176000@renoforjesus.com
SUMMARY:Wednesday Service and Children's Church
DESCRIPTION:
URL:https://renoforjesus.com/event/wednesday-service-and-childrens-church/2027-06-16/
ATTACH;FMTTYPE=image/jpeg:https://renoforjesus.com/wp-content/uploads/2023/01/hannah-busing-G-_L3Eqkqmc-unsplash.jpg
END:VEVENT
BEGIN:VEVENT
DTSTART;TZID=UTC:20270618T183000
DTEND;TZID=UTC:20270618T203000
DTSTAMP:20260421T191248
CREATED:20230115T005214Z
LAST-MODIFIED:20240819T194928Z
UID:10002143-1813343400-1813350600@renoforjesus.com
SUMMARY:Youth Cross Fire Ministry
DESCRIPTION:For Teen and Young Adults 13 to 18 years of age.
URL:https://renoforjesus.com/event/youth-cross-fire-ministry/2027-06-18/
ATTACH;FMTTYPE=image/jpeg:https://renoforjesus.com/wp-content/uploads/2023/04/Copy-of-Youth-Conference-Made-with-PosterMyWall-e1724096115653.jpg
END:VEVENT
BEGIN:VEVENT
DTSTART;TZID=UTC:20270620T100000
DTEND;TZID=UTC:20270620T110000
DTSTAMP:20260421T191248
CREATED:20240819T194805Z
LAST-MODIFIED:20250316T204754Z
UID:10004858-1813485600-1813489200@renoforjesus.com
SUMMARY:Sunday School & Adult Bible Study
DESCRIPTION:
URL:https://renoforjesus.com/event/sunday-school-adult-bible-study/2027-06-20/
ATTACH;FMTTYPE=image/jpeg:https://renoforjesus.com/wp-content/uploads/2023/01/sincerely-media-dGxOgeXAXm8-unsplash.jpg
END:VEVENT
BEGIN:VEVENT
DTSTART;TZID=UTC:20270620T110000
DTEND;TZID=UTC:20270620T120000
DTSTAMP:20260421T191248
CREATED:20240819T191222Z
LAST-MODIFIED:20250316T204848Z
UID:10005148-1813489200-1813492800@renoforjesus.com
SUMMARY:Sunday Morning Service
DESCRIPTION:
URL:https://renoforjesus.com/event/sunday-morning-service/2027-06-20/
ATTACH;FMTTYPE=image/jpeg:https://renoforjesus.com/wp-content/uploads/2023/01/pedro-lima-IkqhfoJjwSI-unsplash-scaled.jpg
END:VEVENT
BEGIN:VEVENT
DTSTART;TZID=UTC:20270620T180000
DTEND;TZID=UTC:20270620T190000
DTSTAMP:20260421T191248
CREATED:20250316T205020Z
LAST-MODIFIED:20250316T205020Z
UID:10005438-1813514400-1813518000@renoforjesus.com
SUMMARY:Sunday Evening Service
DESCRIPTION:
URL:https://renoforjesus.com/event/sunday-evening-service-2/2027-06-20/
ATTACH;FMTTYPE=image/webp:https://renoforjesus.com/wp-content/uploads/2023/01/666402e-253w.webp
END:VEVENT
BEGIN:VEVENT
DTSTART;TZID=UTC:20270623T190000
DTEND;TZID=UTC:20270623T200000
DTSTAMP:20260421T191248
CREATED:20230115T005001Z
LAST-MODIFIED:20240819T194612Z
UID:10001883-1813777200-1813780800@renoforjesus.com
SUMMARY:Wednesday Service and Children's Church
DESCRIPTION:
URL:https://renoforjesus.com/event/wednesday-service-and-childrens-church/2027-06-23/
ATTACH;FMTTYPE=image/jpeg:https://renoforjesus.com/wp-content/uploads/2023/01/hannah-busing-G-_L3Eqkqmc-unsplash.jpg
END:VEVENT
BEGIN:VEVENT
DTSTART;TZID=UTC:20270625T183000
DTEND;TZID=UTC:20270625T203000
DTSTAMP:20260421T191248
CREATED:20230115T005214Z
LAST-MODIFIED:20240819T194928Z
UID:10002144-1813948200-1813955400@renoforjesus.com
SUMMARY:Youth Cross Fire Ministry
DESCRIPTION:For Teen and Young Adults 13 to 18 years of age.
URL:https://renoforjesus.com/event/youth-cross-fire-ministry/2027-06-25/
ATTACH;FMTTYPE=image/jpeg:https://renoforjesus.com/wp-content/uploads/2023/04/Copy-of-Youth-Conference-Made-with-PosterMyWall-e1724096115653.jpg
END:VEVENT
BEGIN:VEVENT
DTSTART;TZID=UTC:20270627T100000
DTEND;TZID=UTC:20270627T110000
DTSTAMP:20260421T191248
CREATED:20240819T194805Z
LAST-MODIFIED:20250316T204754Z
UID:10004859-1814090400-1814094000@renoforjesus.com
SUMMARY:Sunday School & Adult Bible Study
DESCRIPTION:
URL:https://renoforjesus.com/event/sunday-school-adult-bible-study/2027-06-27/
ATTACH;FMTTYPE=image/jpeg:https://renoforjesus.com/wp-content/uploads/2023/01/sincerely-media-dGxOgeXAXm8-unsplash.jpg
END:VEVENT
BEGIN:VEVENT
DTSTART;TZID=UTC:20270627T110000
DTEND;TZID=UTC:20270627T120000
DTSTAMP:20260421T191248
CREATED:20240819T191222Z
LAST-MODIFIED:20250316T204848Z
UID:10005149-1814094000-1814097600@renoforjesus.com
SUMMARY:Sunday Morning Service
DESCRIPTION:
URL:https://renoforjesus.com/event/sunday-morning-service/2027-06-27/
ATTACH;FMTTYPE=image/jpeg:https://renoforjesus.com/wp-content/uploads/2023/01/pedro-lima-IkqhfoJjwSI-unsplash-scaled.jpg
END:VEVENT
BEGIN:VEVENT
DTSTART;TZID=UTC:20270627T180000
DTEND;TZID=UTC:20270627T190000
DTSTAMP:20260421T191248
CREATED:20250316T205020Z
LAST-MODIFIED:20250316T205020Z
UID:10005439-1814119200-1814122800@renoforjesus.com
SUMMARY:Sunday Evening Service
DESCRIPTION:
URL:https://renoforjesus.com/event/sunday-evening-service-2/2027-06-27/
ATTACH;FMTTYPE=image/webp:https://renoforjesus.com/wp-content/uploads/2023/01/666402e-253w.webp
END:VEVENT
BEGIN:VEVENT
DTSTART;TZID=UTC:20270630T190000
DTEND;TZID=UTC:20270630T200000
DTSTAMP:20260421T191248
CREATED:20230115T005001Z
LAST-MODIFIED:20240819T194612Z
UID:10001884-1814382000-1814385600@renoforjesus.com
SUMMARY:Wednesday Service and Children's Church
DESCRIPTION:
URL:https://renoforjesus.com/event/wednesday-service-and-childrens-church/2027-06-30/
ATTACH;FMTTYPE=image/jpeg:https://renoforjesus.com/wp-content/uploads/2023/01/hannah-busing-G-_L3Eqkqmc-unsplash.jpg
END:VEVENT
BEGIN:VEVENT
DTSTART;TZID=UTC:20270702T183000
DTEND;TZID=UTC:20270702T203000
DTSTAMP:20260421T191248
CREATED:20230115T005214Z
LAST-MODIFIED:20240819T194928Z
UID:10002145-1814553000-1814560200@renoforjesus.com
SUMMARY:Youth Cross Fire Ministry
DESCRIPTION:For Teen and Young Adults 13 to 18 years of age.
URL:https://renoforjesus.com/event/youth-cross-fire-ministry/2027-07-02/
ATTACH;FMTTYPE=image/jpeg:https://renoforjesus.com/wp-content/uploads/2023/04/Copy-of-Youth-Conference-Made-with-PosterMyWall-e1724096115653.jpg
END:VEVENT
END:VCALENDAR