BEGIN:VCALENDAR
VERSION:2.0
PRODID:-//Christian Fellowship Of Reno - ECPv6.15.20//NONSGML v1.0//EN
CALSCALE:GREGORIAN
METHOD:PUBLISH
X-ORIGINAL-URL:https://renoforjesus.com
X-WR-CALDESC:Events for Christian Fellowship Of Reno
REFRESH-INTERVAL;VALUE=DURATION:PT1H
X-Robots-Tag:noindex
X-PUBLISHED-TTL:PT1H
BEGIN:VTIMEZONE
TZID:UTC
BEGIN:STANDARD
TZOFFSETFROM:+0000
TZOFFSETTO:+0000
TZNAME:UTC
DTSTART:20260101T000000
END:STANDARD
END:VTIMEZONE
BEGIN:VEVENT
DTSTART;TZID=UTC:20270117T100000
DTEND;TZID=UTC:20270117T110000
DTSTAMP:20260421T030751
CREATED:20240819T194805Z
LAST-MODIFIED:20250316T204754Z
UID:10004836-1800180000-1800183600@renoforjesus.com
SUMMARY:Sunday School & Adult Bible Study
DESCRIPTION:
URL:https://renoforjesus.com/event/sunday-school-adult-bible-study/2027-01-17/
ATTACH;FMTTYPE=image/jpeg:https://renoforjesus.com/wp-content/uploads/2023/01/sincerely-media-dGxOgeXAXm8-unsplash.jpg
END:VEVENT
BEGIN:VEVENT
DTSTART;TZID=UTC:20270117T110000
DTEND;TZID=UTC:20270117T120000
DTSTAMP:20260421T030751
CREATED:20240819T191222Z
LAST-MODIFIED:20250316T204848Z
UID:10005126-1800183600-1800187200@renoforjesus.com
SUMMARY:Sunday Morning Service
DESCRIPTION:
URL:https://renoforjesus.com/event/sunday-morning-service/2027-01-17/
ATTACH;FMTTYPE=image/jpeg:https://renoforjesus.com/wp-content/uploads/2023/01/pedro-lima-IkqhfoJjwSI-unsplash-scaled.jpg
END:VEVENT
BEGIN:VEVENT
DTSTART;TZID=UTC:20270117T180000
DTEND;TZID=UTC:20270117T190000
DTSTAMP:20260421T030751
CREATED:20250316T205020Z
LAST-MODIFIED:20250316T205020Z
UID:10005416-1800208800-1800212400@renoforjesus.com
SUMMARY:Sunday Evening Service
DESCRIPTION:
URL:https://renoforjesus.com/event/sunday-evening-service-2/2027-01-17/
ATTACH;FMTTYPE=image/webp:https://renoforjesus.com/wp-content/uploads/2023/01/666402e-253w.webp
END:VEVENT
BEGIN:VEVENT
DTSTART;TZID=UTC:20270120T190000
DTEND;TZID=UTC:20270120T200000
DTSTAMP:20260421T030751
CREATED:20230115T005001Z
LAST-MODIFIED:20240819T194612Z
UID:10001861-1800471600-1800475200@renoforjesus.com
SUMMARY:Wednesday Service and Children's Church
DESCRIPTION:
URL:https://renoforjesus.com/event/wednesday-service-and-childrens-church/2027-01-20/
ATTACH;FMTTYPE=image/jpeg:https://renoforjesus.com/wp-content/uploads/2023/01/hannah-busing-G-_L3Eqkqmc-unsplash.jpg
END:VEVENT
BEGIN:VEVENT
DTSTART;TZID=UTC:20270122T183000
DTEND;TZID=UTC:20270122T203000
DTSTAMP:20260421T030751
CREATED:20230115T005214Z
LAST-MODIFIED:20240819T194928Z
UID:10002122-1800642600-1800649800@renoforjesus.com
SUMMARY:Youth Cross Fire Ministry
DESCRIPTION:For Teen and Young Adults 13 to 18 years of age.
URL:https://renoforjesus.com/event/youth-cross-fire-ministry/2027-01-22/
ATTACH;FMTTYPE=image/jpeg:https://renoforjesus.com/wp-content/uploads/2023/04/Copy-of-Youth-Conference-Made-with-PosterMyWall-e1724096115653.jpg
END:VEVENT
BEGIN:VEVENT
DTSTART;TZID=UTC:20270124T100000
DTEND;TZID=UTC:20270124T110000
DTSTAMP:20260421T030751
CREATED:20240819T194805Z
LAST-MODIFIED:20250316T204754Z
UID:10004837-1800784800-1800788400@renoforjesus.com
SUMMARY:Sunday School & Adult Bible Study
DESCRIPTION:
URL:https://renoforjesus.com/event/sunday-school-adult-bible-study/2027-01-24/
ATTACH;FMTTYPE=image/jpeg:https://renoforjesus.com/wp-content/uploads/2023/01/sincerely-media-dGxOgeXAXm8-unsplash.jpg
END:VEVENT
BEGIN:VEVENT
DTSTART;TZID=UTC:20270124T110000
DTEND;TZID=UTC:20270124T120000
DTSTAMP:20260421T030751
CREATED:20240819T191222Z
LAST-MODIFIED:20250316T204848Z
UID:10005127-1800788400-1800792000@renoforjesus.com
SUMMARY:Sunday Morning Service
DESCRIPTION:
URL:https://renoforjesus.com/event/sunday-morning-service/2027-01-24/
ATTACH;FMTTYPE=image/jpeg:https://renoforjesus.com/wp-content/uploads/2023/01/pedro-lima-IkqhfoJjwSI-unsplash-scaled.jpg
END:VEVENT
BEGIN:VEVENT
DTSTART;TZID=UTC:20270124T180000
DTEND;TZID=UTC:20270124T190000
DTSTAMP:20260421T030751
CREATED:20250316T205020Z
LAST-MODIFIED:20250316T205020Z
UID:10005417-1800813600-1800817200@renoforjesus.com
SUMMARY:Sunday Evening Service
DESCRIPTION:
URL:https://renoforjesus.com/event/sunday-evening-service-2/2027-01-24/
ATTACH;FMTTYPE=image/webp:https://renoforjesus.com/wp-content/uploads/2023/01/666402e-253w.webp
END:VEVENT
BEGIN:VEVENT
DTSTART;TZID=UTC:20270127T190000
DTEND;TZID=UTC:20270127T200000
DTSTAMP:20260421T030751
CREATED:20230115T005001Z
LAST-MODIFIED:20240819T194612Z
UID:10001862-1801076400-1801080000@renoforjesus.com
SUMMARY:Wednesday Service and Children's Church
DESCRIPTION:
URL:https://renoforjesus.com/event/wednesday-service-and-childrens-church/2027-01-27/
ATTACH;FMTTYPE=image/jpeg:https://renoforjesus.com/wp-content/uploads/2023/01/hannah-busing-G-_L3Eqkqmc-unsplash.jpg
END:VEVENT
BEGIN:VEVENT
DTSTART;TZID=UTC:20270129T183000
DTEND;TZID=UTC:20270129T203000
DTSTAMP:20260421T030751
CREATED:20230115T005214Z
LAST-MODIFIED:20240819T194928Z
UID:10002123-1801247400-1801254600@renoforjesus.com
SUMMARY:Youth Cross Fire Ministry
DESCRIPTION:For Teen and Young Adults 13 to 18 years of age.
URL:https://renoforjesus.com/event/youth-cross-fire-ministry/2027-01-29/
ATTACH;FMTTYPE=image/jpeg:https://renoforjesus.com/wp-content/uploads/2023/04/Copy-of-Youth-Conference-Made-with-PosterMyWall-e1724096115653.jpg
END:VEVENT
BEGIN:VEVENT
DTSTART;TZID=UTC:20270131T100000
DTEND;TZID=UTC:20270131T110000
DTSTAMP:20260421T030751
CREATED:20240819T194805Z
LAST-MODIFIED:20250316T204754Z
UID:10004838-1801389600-1801393200@renoforjesus.com
SUMMARY:Sunday School & Adult Bible Study
DESCRIPTION:
URL:https://renoforjesus.com/event/sunday-school-adult-bible-study/2027-01-31/
ATTACH;FMTTYPE=image/jpeg:https://renoforjesus.com/wp-content/uploads/2023/01/sincerely-media-dGxOgeXAXm8-unsplash.jpg
END:VEVENT
BEGIN:VEVENT
DTSTART;TZID=UTC:20270131T110000
DTEND;TZID=UTC:20270131T120000
DTSTAMP:20260421T030751
CREATED:20240819T191222Z
LAST-MODIFIED:20250316T204848Z
UID:10005128-1801393200-1801396800@renoforjesus.com
SUMMARY:Sunday Morning Service
DESCRIPTION:
URL:https://renoforjesus.com/event/sunday-morning-service/2027-01-31/
ATTACH;FMTTYPE=image/jpeg:https://renoforjesus.com/wp-content/uploads/2023/01/pedro-lima-IkqhfoJjwSI-unsplash-scaled.jpg
END:VEVENT
BEGIN:VEVENT
DTSTART;TZID=UTC:20270131T180000
DTEND;TZID=UTC:20270131T190000
DTSTAMP:20260421T030751
CREATED:20250316T205020Z
LAST-MODIFIED:20250316T205020Z
UID:10005418-1801418400-1801422000@renoforjesus.com
SUMMARY:Sunday Evening Service
DESCRIPTION:
URL:https://renoforjesus.com/event/sunday-evening-service-2/2027-01-31/
ATTACH;FMTTYPE=image/webp:https://renoforjesus.com/wp-content/uploads/2023/01/666402e-253w.webp
END:VEVENT
BEGIN:VEVENT
DTSTART;TZID=UTC:20270203T190000
DTEND;TZID=UTC:20270203T200000
DTSTAMP:20260421T030751
CREATED:20230115T005001Z
LAST-MODIFIED:20240819T194612Z
UID:10001863-1801681200-1801684800@renoforjesus.com
SUMMARY:Wednesday Service and Children's Church
DESCRIPTION:
URL:https://renoforjesus.com/event/wednesday-service-and-childrens-church/2027-02-03/
ATTACH;FMTTYPE=image/jpeg:https://renoforjesus.com/wp-content/uploads/2023/01/hannah-busing-G-_L3Eqkqmc-unsplash.jpg
END:VEVENT
BEGIN:VEVENT
DTSTART;TZID=UTC:20270205T183000
DTEND;TZID=UTC:20270205T203000
DTSTAMP:20260421T030751
CREATED:20230115T005214Z
LAST-MODIFIED:20240819T194928Z
UID:10002124-1801852200-1801859400@renoforjesus.com
SUMMARY:Youth Cross Fire Ministry
DESCRIPTION:For Teen and Young Adults 13 to 18 years of age.
URL:https://renoforjesus.com/event/youth-cross-fire-ministry/2027-02-05/
ATTACH;FMTTYPE=image/jpeg:https://renoforjesus.com/wp-content/uploads/2023/04/Copy-of-Youth-Conference-Made-with-PosterMyWall-e1724096115653.jpg
END:VEVENT
BEGIN:VEVENT
DTSTART;TZID=UTC:20270207T100000
DTEND;TZID=UTC:20270207T110000
DTSTAMP:20260421T030751
CREATED:20240819T194805Z
LAST-MODIFIED:20250316T204754Z
UID:10004839-1801994400-1801998000@renoforjesus.com
SUMMARY:Sunday School & Adult Bible Study
DESCRIPTION:
URL:https://renoforjesus.com/event/sunday-school-adult-bible-study/2027-02-07/
ATTACH;FMTTYPE=image/jpeg:https://renoforjesus.com/wp-content/uploads/2023/01/sincerely-media-dGxOgeXAXm8-unsplash.jpg
END:VEVENT
BEGIN:VEVENT
DTSTART;TZID=UTC:20270207T110000
DTEND;TZID=UTC:20270207T120000
DTSTAMP:20260421T030751
CREATED:20240819T191222Z
LAST-MODIFIED:20250316T204848Z
UID:10005129-1801998000-1802001600@renoforjesus.com
SUMMARY:Sunday Morning Service
DESCRIPTION:
URL:https://renoforjesus.com/event/sunday-morning-service/2027-02-07/
ATTACH;FMTTYPE=image/jpeg:https://renoforjesus.com/wp-content/uploads/2023/01/pedro-lima-IkqhfoJjwSI-unsplash-scaled.jpg
END:VEVENT
BEGIN:VEVENT
DTSTART;TZID=UTC:20270207T180000
DTEND;TZID=UTC:20270207T190000
DTSTAMP:20260421T030751
CREATED:20250316T205020Z
LAST-MODIFIED:20250316T205020Z
UID:10005419-1802023200-1802026800@renoforjesus.com
SUMMARY:Sunday Evening Service
DESCRIPTION:
URL:https://renoforjesus.com/event/sunday-evening-service-2/2027-02-07/
ATTACH;FMTTYPE=image/webp:https://renoforjesus.com/wp-content/uploads/2023/01/666402e-253w.webp
END:VEVENT
BEGIN:VEVENT
DTSTART;TZID=UTC:20270210T190000
DTEND;TZID=UTC:20270210T200000
DTSTAMP:20260421T030751
CREATED:20230115T005001Z
LAST-MODIFIED:20240819T194612Z
UID:10001864-1802286000-1802289600@renoforjesus.com
SUMMARY:Wednesday Service and Children's Church
DESCRIPTION:
URL:https://renoforjesus.com/event/wednesday-service-and-childrens-church/2027-02-10/
ATTACH;FMTTYPE=image/jpeg:https://renoforjesus.com/wp-content/uploads/2023/01/hannah-busing-G-_L3Eqkqmc-unsplash.jpg
END:VEVENT
BEGIN:VEVENT
DTSTART;TZID=UTC:20270212T183000
DTEND;TZID=UTC:20270212T203000
DTSTAMP:20260421T030751
CREATED:20230115T005214Z
LAST-MODIFIED:20240819T194928Z
UID:10002125-1802457000-1802464200@renoforjesus.com
SUMMARY:Youth Cross Fire Ministry
DESCRIPTION:For Teen and Young Adults 13 to 18 years of age.
URL:https://renoforjesus.com/event/youth-cross-fire-ministry/2027-02-12/
ATTACH;FMTTYPE=image/jpeg:https://renoforjesus.com/wp-content/uploads/2023/04/Copy-of-Youth-Conference-Made-with-PosterMyWall-e1724096115653.jpg
END:VEVENT
BEGIN:VEVENT
DTSTART;TZID=UTC:20270214T100000
DTEND;TZID=UTC:20270214T110000
DTSTAMP:20260421T030751
CREATED:20240819T194805Z
LAST-MODIFIED:20250316T204754Z
UID:10004840-1802599200-1802602800@renoforjesus.com
SUMMARY:Sunday School & Adult Bible Study
DESCRIPTION:
URL:https://renoforjesus.com/event/sunday-school-adult-bible-study/2027-02-14/
ATTACH;FMTTYPE=image/jpeg:https://renoforjesus.com/wp-content/uploads/2023/01/sincerely-media-dGxOgeXAXm8-unsplash.jpg
END:VEVENT
BEGIN:VEVENT
DTSTART;TZID=UTC:20270214T110000
DTEND;TZID=UTC:20270214T120000
DTSTAMP:20260421T030751
CREATED:20240819T191222Z
LAST-MODIFIED:20250316T204848Z
UID:10005130-1802602800-1802606400@renoforjesus.com
SUMMARY:Sunday Morning Service
DESCRIPTION:
URL:https://renoforjesus.com/event/sunday-morning-service/2027-02-14/
ATTACH;FMTTYPE=image/jpeg:https://renoforjesus.com/wp-content/uploads/2023/01/pedro-lima-IkqhfoJjwSI-unsplash-scaled.jpg
END:VEVENT
BEGIN:VEVENT
DTSTART;TZID=UTC:20270214T180000
DTEND;TZID=UTC:20270214T190000
DTSTAMP:20260421T030751
CREATED:20250316T205020Z
LAST-MODIFIED:20250316T205020Z
UID:10005420-1802628000-1802631600@renoforjesus.com
SUMMARY:Sunday Evening Service
DESCRIPTION:
URL:https://renoforjesus.com/event/sunday-evening-service-2/2027-02-14/
ATTACH;FMTTYPE=image/webp:https://renoforjesus.com/wp-content/uploads/2023/01/666402e-253w.webp
END:VEVENT
BEGIN:VEVENT
DTSTART;TZID=UTC:20270217T190000
DTEND;TZID=UTC:20270217T200000
DTSTAMP:20260421T030751
CREATED:20230115T005001Z
LAST-MODIFIED:20240819T194612Z
UID:10001865-1802890800-1802894400@renoforjesus.com
SUMMARY:Wednesday Service and Children's Church
DESCRIPTION:
URL:https://renoforjesus.com/event/wednesday-service-and-childrens-church/2027-02-17/
ATTACH;FMTTYPE=image/jpeg:https://renoforjesus.com/wp-content/uploads/2023/01/hannah-busing-G-_L3Eqkqmc-unsplash.jpg
END:VEVENT
BEGIN:VEVENT
DTSTART;TZID=UTC:20270219T183000
DTEND;TZID=UTC:20270219T203000
DTSTAMP:20260421T030751
CREATED:20230115T005214Z
LAST-MODIFIED:20240819T194928Z
UID:10002126-1803061800-1803069000@renoforjesus.com
SUMMARY:Youth Cross Fire Ministry
DESCRIPTION:For Teen and Young Adults 13 to 18 years of age.
URL:https://renoforjesus.com/event/youth-cross-fire-ministry/2027-02-19/
ATTACH;FMTTYPE=image/jpeg:https://renoforjesus.com/wp-content/uploads/2023/04/Copy-of-Youth-Conference-Made-with-PosterMyWall-e1724096115653.jpg
END:VEVENT
BEGIN:VEVENT
DTSTART;TZID=UTC:20270221T100000
DTEND;TZID=UTC:20270221T110000
DTSTAMP:20260421T030751
CREATED:20240819T194805Z
LAST-MODIFIED:20250316T204754Z
UID:10004841-1803204000-1803207600@renoforjesus.com
SUMMARY:Sunday School & Adult Bible Study
DESCRIPTION:
URL:https://renoforjesus.com/event/sunday-school-adult-bible-study/2027-02-21/
ATTACH;FMTTYPE=image/jpeg:https://renoforjesus.com/wp-content/uploads/2023/01/sincerely-media-dGxOgeXAXm8-unsplash.jpg
END:VEVENT
BEGIN:VEVENT
DTSTART;TZID=UTC:20270221T110000
DTEND;TZID=UTC:20270221T120000
DTSTAMP:20260421T030751
CREATED:20240819T191222Z
LAST-MODIFIED:20250316T204848Z
UID:10005131-1803207600-1803211200@renoforjesus.com
SUMMARY:Sunday Morning Service
DESCRIPTION:
URL:https://renoforjesus.com/event/sunday-morning-service/2027-02-21/
ATTACH;FMTTYPE=image/jpeg:https://renoforjesus.com/wp-content/uploads/2023/01/pedro-lima-IkqhfoJjwSI-unsplash-scaled.jpg
END:VEVENT
BEGIN:VEVENT
DTSTART;TZID=UTC:20270221T180000
DTEND;TZID=UTC:20270221T190000
DTSTAMP:20260421T030751
CREATED:20250316T205020Z
LAST-MODIFIED:20250316T205020Z
UID:10005421-1803232800-1803236400@renoforjesus.com
SUMMARY:Sunday Evening Service
DESCRIPTION:
URL:https://renoforjesus.com/event/sunday-evening-service-2/2027-02-21/
ATTACH;FMTTYPE=image/webp:https://renoforjesus.com/wp-content/uploads/2023/01/666402e-253w.webp
END:VEVENT
BEGIN:VEVENT
DTSTART;TZID=UTC:20270224T190000
DTEND;TZID=UTC:20270224T200000
DTSTAMP:20260421T030751
CREATED:20230115T005001Z
LAST-MODIFIED:20240819T194612Z
UID:10001866-1803495600-1803499200@renoforjesus.com
SUMMARY:Wednesday Service and Children's Church
DESCRIPTION:
URL:https://renoforjesus.com/event/wednesday-service-and-childrens-church/2027-02-24/
ATTACH;FMTTYPE=image/jpeg:https://renoforjesus.com/wp-content/uploads/2023/01/hannah-busing-G-_L3Eqkqmc-unsplash.jpg
END:VEVENT
BEGIN:VEVENT
DTSTART;TZID=UTC:20270226T183000
DTEND;TZID=UTC:20270226T203000
DTSTAMP:20260421T030751
CREATED:20230115T005214Z
LAST-MODIFIED:20240819T194928Z
UID:10002127-1803666600-1803673800@renoforjesus.com
SUMMARY:Youth Cross Fire Ministry
DESCRIPTION:For Teen and Young Adults 13 to 18 years of age.
URL:https://renoforjesus.com/event/youth-cross-fire-ministry/2027-02-26/
ATTACH;FMTTYPE=image/jpeg:https://renoforjesus.com/wp-content/uploads/2023/04/Copy-of-Youth-Conference-Made-with-PosterMyWall-e1724096115653.jpg
END:VEVENT
END:VCALENDAR